Workbook

Sheet 사업현황
A2: 인천항만공사 진행중 용역 현황
A4: 사업명 | B4: 계약일 | C4: 사업시작 | D4: 사업종료 | E4: 용역금액(도급액) | F4: 용역업체 | G4: 대표자 | H4: 지분율 | I4: 비고1(종료일) | J4: 비고2 (용역일수) | K4: 비고3 (현황) | L4: 비고4 (담당부서)
A5: 2025년 인천항 항만시설물 정밀안전점검 및 성능평가 용역 | B5: 25.05.02. | C5: 25.05.02. | D5: 25.12.27. | E5: 645672000 | F5: (재)한국건설품질연구원 | G5: 안영기 | H5: 0.7 | J5: 240 | K5: 공동
A6: 2025년 인천항 항만시설물 정밀안전점검 및 성능평가 용역 | B6: 25.05.02. | C6: 25.05.02. | D6: 25.12.27. | E6: 645672000 | F6: ㈜인프라플러스 | G6: 지경희 | H6: 0.3 | J6: 240 | K6: 공동
A7: 2025년 인천항 항만시설물 정밀안전점검 및 성능평가 용역 | B7: 25.05.02. | C7: 25.05.02. | D7: 25.12.27. | E7: 645672000 | F7: ㈜용마엔지니어링 | G7: 차윤호 | H7: 분담 | J7: 240 | K7: 분담
A8: 인천신항 1-2단계 컨테이너부두 하부공 축조공사 건설사업관리용역 | B8: 21.04.29. | C8: 21.05.01. | D8: 26.04.28. | E8: 8768132000 | F8: ㈜세광종합기술단 | G8: 이재완 | H8: 0.4 | J8: 1675 | K8: 공동 | L8: 항만건설실
A9: 인천신항 1-2단계 컨테이너부두 하부공 축조공사 건설사업관리용역 | B9: 21.04.29. | C9: 21.05.01. | D9: 26.04.28. | E9: 8768132000 | F9: ㈜동명기술공단종합건축사무소 | G9: 신완수 | H9: 0.1 | J9: 1675 | K9: 공동
A10: 인천신항 1-2단계 컨테이너부두 하부공 축조공사 건설사업관리용역 | B10: 21.04.29. | C10: 21.05.01. | D10: 26.04.28. | E10: 8768132000 | F10: ㈜세일종합기술공사 | G10: 이호순 | H10: 0.15 | J10: 1675 | K10: 공동
A11: 인천신항 1-2단계 컨테이너부두 하부공 축조공사 건설사업관리용역 | B11: 21.04.29. | C11: 21.05.01. | D11: 26.04.28. | E11: 8768132000 | F11: 일진인터내셔날㈜ | G11: 류황범 | H11: 0.1 | J11: 1675 | K11: 공동
A12: 인천신항 1-2단계 컨테이너부두 하부공 축조공사 건설사업관리용역 | B12: 21.04.29. | C12: 21.05.01. | D12: 26.04.28. | E12: 8768132000 | F12: ㈜세일종합기술공사 | G12: 손병진 | H12: 0.25 | J12: 1675 | K12: 공동
A13: 인천신항 건설사업(1단계), 인천신항 컨테이너부두(1-2단계) 개발사업 통합 사후환경영향조사용역 | B13: 21.08.23. | C13: 21.08.24. | D13: 25.12.31. | E13: 2604000000 | F13: ㈜세광종합기술단 | G13: 이재완 | H13: 0.5 | J13: 1370 | K13: 공동
A14: 인천신항 건설사업(1단계), 인천신항 컨테이너부두(1-2단계) 개발사업 통합 사후환경영향조사용역 | B14: 21.08.23. | C14: 21.08.24. | D14: 25.12.31. | E14: 2604000000 | F14: 대한환경영향평가그룹㈜ | G14: 김태훈 | H14: 0.1 | J14: 1370 | K14: 공동
A15: 인천신항 건설사업(1단계), 인천신항 컨테이너부두(1-2단계) 개발사업 통합 사후환경영향조사용역 | B15: 21.08.23. | C15: 21.08.24. | D15: 25.12.31. | E15: 2604000000 | F15: ㈜세일종합기술공사 | G15: 이호순 | H15: 0.15 | J15: 1370 | K15: 공동
A16: 인천신항 건설사업(1단계), 인천신항 컨테이너부두(1-2단계) 개발사업 통합 사후환경영향조사용역 | B16: 21.08.23. | C16: 21.08.24. | D16: 25.12.31. | E16: 2288200000 | F16: ㈜아라기술 | G16: 손병진 | H16: 0.25 | J16: 1370 | K16: 공동
A17: 인천신항(1단계) 개발사업 공급 인입시설 설치공사 건설사업관리용역 | B17: 23.08.03. | C17: 23.08.25. | D17: 26.05.31. | E17: 1648000000 | F17: ㈜수성엔지니어링 | G17: 김광원 | H17: 0.5 | J17: 828 | K17: 공동
A18: 인천신항(1단계) 개발사업 공급 인입시설 설치공사 건설사업관리용역 | B18: 23.08.03. | C18: 23.08.25. | D18: 26.05.31. | E18: 1648000000 | F18: ㈜아이엔씨엔지니어링 | G18: 이규택 | H18: 0.2 | J18: 828 | K18: 공동
A19: 인천신항(1단계) 개발사업 공급 인입시설 설치공사 건설사업관리용역 | B19: 23.08.03. | C19: 23.08.25. | D19: 26.05.31. | E19: 1648000000 | F19: ㈜대영엔지니어링 | G19: 유병화 | H19: 0.3 | J19: 828 | K19: 공동
A20: 인천신항(1단계) 개발사업 공급 인입시설 설치공사 착공후 지하안전영향조사용역 | B20: 23.12.12. | C20: 23.12.12. | D20: 26.06.30. | E20: 77731000 | F20: ㈜에스앤피이엔씨 | G20: 정종민 | H20: 1 | J20: 750 | K20: 단독
... A24: 인천항 내항 1·8부두 재개발사업 기본 및 실시설계용역 | B24: 24.09.10 | C24: 24.09.10 | D24: 26.03.03 | E24: 4149000000 | F24: 일진인터내셔날㈜ | G24: 류황범 | H24: 0.2 | J24: 540 | K24: 공동
A25: 인천항 내항 1·8부두 재개발사업 기본 및 실시설계용역 | B25: 24.09.10 | C25: 24.09.10 | D25: 26.03.03 | E25: 4149000000 | F25: ㈜케이알엔지니어링 | G25: 장경식 | H25: 분담 | J25: 540 | K25: 분담
A26: 인천항 내항 1·8부두 재개발사업 기본 및 실시설계용역 | B26: 24.09.10 | C26: 24.09.10 | D26: 26.03.03 | E26: 4149000000 | F26: ㈜인우이엔씨 | G26: 장영준 | H26: 분담 | J26: 540 | K26: 분담
A27: 인천항 내항 1·8부두 재개발사업 기본 및 실시설계용역 | B27: 24.09.10 | C27: 24.09.10 | D27: 26.03.03 | E27: 4149000000 | F27: ㈜케이기술 | G27: 윤희자 | H27: 분담 | J27: 540 | K27: 분담
A28: 인천항 내항 1·8부두 재개발사업 기본 및 실시설계용역 | B28: 24.09.10 | C28: 24.09.10 | D28: 26.03.03 | E28: 4149000000 | F28: ㈜미래해양 | G28: 김진호 | H28: 분담 | J28: 540 | K28: 분담
A29: 인천항 내항 1·8부두 재개발사업 기본 및 실시설계 설계단계 건설사업관리(VE포함) 용역 | B29: 24.10.28 | C29: 24.10.29 | D29: 26.05.21 | E29: 202126000 | F29: ㈜동서엔지니어링 | G29: 이익상 | H29: 1 | J29: 570 | K29: 분담
A30: 2025년 국제여객부두 고압 육상전원공급시설(AMP) 관리운영 용역 | B30: 24.02.13. | C30: 24.02.13. | D30: 25.12.31. | E30: 925958000 | F30: ㈜에이엠피코 | G30: 강병삼 | H30: 1 | J30: 688 | K30: 단독 | L30: 항만시설실
A31: 2025년 인천항 교통안전시설 및 전력설비 CCTV 유지관리용역 | B31: 25.01.01 | C31: 25.01.01 | D31: 25.12.31 | E31: 51337000 | F31: 뉴인테크㈜ | G31: 박은영 | H31: 1 | J31: 365 | K31: 단독
A32: 2025년 인천항 태양광발전소 및 에너지저장장치(ESS) 전기안전관리용역 | B32: 24.12.30 | C32: 25.12.31 | D32: 25.12.31 | E32: 51810000 | F32: 플러스전기㈜ | G32: 유선미 | H32: 1 | J32: 365 | K32: 단독
A33: 2025년 인천항 북항배후단지 오수처리시설 유지관리용역 | B33: 24.12.27. | C33: 25.01.01. | D33: 25.12.30. | E33: 37620000 | F33: ㈜한길자연환경 | G33: 강진무 | H33: 1 | J33: 364 | K33: 단독
A34: 2025년 인천항 태양광발전소 및 에너지저장장치(ESS) 전기안전관리용역 | B34: 24.12.30 | C34: 25.12.31 | D34: 25.12.31 | E34: 51810000 | F34: 플러스전기㈜ | G34: 유선미 | H34: 1 | J34: 365 | K34: 단독 | L34: 친환경·기술개발실

Sheet 기술자현황
A2: 참여 기술자 현황
A4: 사업명 | B4: 성명 | C4: 분야 | D4: 구분 | E4: 비고1 | F4: 소속 | G4: 담당부서 | H4: 참여기간 | I4: 사업명 | J4: 용역금액 | K4: 용역기간 | L4: 참여평가자 까지 상주기술자 그 외에는 비상주 기술자
A5: 2025년 인천항 항만시설물 정밀안전점검 및 성능평가 용역 | B5: 김형일 | C5: 총괄 | D5: 사업책임기술자 | E5: 71.10.18. | F5: (재)한국건설품질연구원 | G5: 개발계획처 장선재 과장 032-890-8146 | H5: 25.05.02.~25.12.27. | I5: 2025년 인천항 항만시설물 정밀안전점검 및 성능평가 용역 | O5: ( | P5: ) | Q5: =CONCATENATE(O5,#REF!,P5) -> #REF! | R5: =#REF!&CHAR(10)&Q5 -> #REF!
B6: 김현중 | C6: 조사및시험 | D6: 분야별책임기술인 | E6: 83.01.03. | F6: (재)한국건설품질연구원 | H6: 25.05.02.~25.12.27. | I6: 2025년 인천항 항만시설물 정밀안전점검 및 성능평가 용역 | O6: ( | P6: ) | Q6: =CONCATENATE(O6,#REF!,P6) -> #REF! | R6: =#REF!&CHAR(10)&Q6 -> #REF!
B7: 김인근 | C7: 분석및평가 | D7: 분야별책임기술인 | E7: 75.06.30. | F7: ㈜인프라플러스 | H7: 25.05.02.~25.12.27. | I7: 2025년 인천항 항만시설물 정밀안전점검 및 성능평가 용역 | O7: ( | P7: ) | Q7: =CONCATENATE(O7,#REF!,P7) -> #REF! | R7: =#REF!&CHAR(10)&Q7 -> #REF!
B8: 박태희 | C8: 조사및시험 | D8: 참여기술인 | E8: 80.01.25. | F8: (재)한국건설품질연구원 | H8: 25.05.02.~25.12.27. | I8: 2025년 인천항 항만시설물 정밀안전점검 및 성능평가 용역 | O8: ( | P8: ) | Q8: =CONCATENATE(O8,#REF!,P8) -> #REF! | R8: =#REF!&CHAR(10)&Q8 -> #REF!
B9: 배용식 | C9: 조사및시험 | D9: 참여기술인 | E9: 86.12.28. | F9: (재)한국건설품질연구원 | H9: 25.05.02.~25.12.27. | I9: 2025년 인천항 항만시설물 정밀안전점검 및 성능평가 용역 | O9: ( | P9: ) | Q9: =CONCATENATE(O9,#REF!,P9) -> #REF! | R9: =#REF!&CHAR(10)&Q9 -> #REF!
B10: 최민식 | C10: 조사및시험 | D10: 참여기술인 | E10: 94.07.28. | F10: (재)한국건설품질연구원 | H10: 25.05.02.~25.12.27. | I10: 2025년 인천항 항만시설물 정밀안전점검 및 성능평가 용역 | O10: ( | P10: ) | Q10: =CONCATENATE(O10,#REF!,P10) -> #REF! | R10: =#REF!&CHAR(10)&Q10 -> #REF!
B11: 이윤복 | C11: 조사및시험 | D11: 참여기술인 | E11: 98.03.01. | F11: (재)한국건설품질연구원 | H11: 25.05.02.~25.12.27. | I11: 2025년 인천항 항만시설물 정밀안전점검 및 성능평가 용역 | O11: ( | P11: ) | Q11: =CONCATENATE(O11,#REF!,P11) -> #REF! | R11: =#REF!&CHAR(10)&Q11 -> #REF!
B12: 이원근 | C12: 조사및시험 | D12: 참여기술인 | E12: 80.10.24. | F12: ㈜인프라플러스 | H12: 25.05.02.~25.12.27. | I12: 2025년 인천항 항만시설물 정밀안전점검 및 성능평가 용역 | O12: ( | P12: ) | Q12: =CONCATENATE(O12,#REF!,P12) -> #REF! | R12: =#REF!&CHAR(10)&Q12 -> #REF!
B13: 노인태 | C13: 분석및평가 | D13: 참여기술인 | E13: 68.03.10. | F13: (재)한국건설품질연구원 | H13: 25.05.02.~25.12.27. | I13: 2025년 인천항 항만시설물 정밀안전점검 및 성능평가 용역 | O13: ( | P13: ) | Q13: =CONCATENATE(O13,#REF!,P13) -> #REF! | R13: =#REF!&CHAR(10)&Q13 -> #REF!
B14: 송상득 | C14: 분석및평가 | D14: 참여기술인 | E14: 52.11.26. | F14: (재)한국건설품질연구원 | H14: 25.05.02.~25.12.27. | I14: 2025년 인천항 항만시설물 정밀안전점검 및 성능평가 용역 | O14: ( | P14: ) | Q14: =CONCATENATE(O14,#REF!,P14) -> #REF! | R14: =#REF!&CHAR(10)&Q14 -> #REF!
B15: 박희정 | C15: 분석및평가 | D15: 참여기술인 | E15: 60.01.25. | F15: (재)한국건설품질연구원 | H15: 25.05.02.~25.12.27. | I15: 2025년 인천항 항만시설물 정밀안전점검 및 성능평가 용역 | O15: ( | P15: ) | Q15: =CONCATENATE(O15,#REF!,P15) -> #REF! | R15: =#REF!&CHAR(10)&Q15 -> #REF!
B16: 이재혁 | C16: 분석및평가 | D16: 참여기술인 | E16: 91.10.25. | F16: (재)한국건설품질연구원 | H16: 25.05.02.~25.12.27. | I16: 2025년 인천항 항만시설물 정밀안전점검 및 성능평가 용역 | O16: ( | P16: ) | Q16: =CONCATENATE(O16,#REF!,P16) -> #REF! | R16: =#REF!&CHAR(10)&Q16 -> #REF!
B17: 이창호 | C17: 분석및평가 | D17: 참여기술인 | E17: 95.10.30. | F17: ㈜인프라플러스 | H17: 25.05.02.~25.12.27. | I17: 2025년 인천항 항만시설물 정밀안전점검 및 성능평가 용역 | O17: ( | P17: ) | Q17: =CONCATENATE(O17,#REF!,P17) -> #REF! | R17: =#REF!&CHAR(10)&Q17 -> #REF!
... B21: 이임노 | C21: 실시설계 | D21: 참여기술인 | E21: 52.02.05. | F21: ㈜용마엔지니어링 | H21: 25.05.02.~25.12.27. | I21: 2025년 인천항 항만시설물 정밀안전점검 및 성능평가 용역 | O21: ( | P21: ) | Q21: =CONCATENATE(O21,#REF!,P21) -> #REF! | R21: =#REF!&CHAR(10)&Q21 -> #REF!
A22: 인천신항 1-2단계 컨테이너부두 하부공 축조공사 건설사업관리용역 | B22: 송운용 | C22: 항만 및 해안분야 | D22: 사업책임기술인 | E22: 61.11.20. | F22: ㈜세광종합기술단 | G22: 항만건설실 유형우 주임 032-890-8164 | H22: 21.05.01. ~ 26.04.28. | I22: 인천신항 1-2단계 컨테이너부두 하부공 축조공사 건설사업관리용역 | O22: ( | P22: ) | Q22: =CONCATENATE(O22,C22,P22) -> (항만 및 해안분야) | R22: =D22&CHAR(10)&Q22 -> 사업책임기술인 (항만 및 해안분야)
B23: 김윤수 | C23: 항만 및 해안분야 | D23: 분야별기술인 | E23: 59.02.02. | F23: ㈜아라기술 | H23: 21.07.01. ~ 26.04.28. | I23: 인천신항 1-2단계 컨테이너부두 하부공 축조공사 건설사업관리용역 | O23: ( | P23: ) | Q23: =CONCATENATE(O23,C23,P23) -> (항만 및 해안분야) | R23: =D23&CHAR(10)&Q23 -> 분야별기술인 (항만 및 해안분야)
B24: 이강화 | C24: 항만 및 해안분야 | D24: 분야별기술인 | E24: 74.08.10. | F24: ㈜세광종합기술단 | H24: 21.05.01. ~ 26.04.28. | I24: 인천신항 1-2단계 컨테이너부두 하부공 축조공사 건설사업관리용역 | O24: ( | P24: ) | Q24: =CONCATENATE(O24,C24,P24) -> (항만 및 해안분야) | R24: =D24&CHAR(10)&Q24 -> 분야별기술인 (항만 및 해안분야)
B25: 조형규 | C25: 토목 | D25: 분야별기술인 | E25: 56.10.28. | F25: ㈜아라기술 | H25: 21.11.01. ~ 26.04.28. | I25: 인천신항 1-2단계 컨테이너부두 하부공 축조공사 건설사업관리용역 | O25: ( | P25: ) | Q25: =CONCATENATE(O25,C25,P25) -> (토목) | R25: =D25&CHAR(10)&Q25 -> 분야별기술인 (토목)
B26: 조흥구 | C26: 항만 및 해안분야 | D26: 분야별기술인 | E26: 60.01.10. | F26: ㈜아라기술 | H26: 22.05.09. ~ 26.04.28. | I26: 인천신항 1-2단계 컨테이너부두 하부공 축조공사 건설사업관리용역 | O26: ( | P26: ) | Q26: =CONCATENATE(O26,C26,P26) -> (항만 및 해안분야) | R26: =D26&CHAR(10)&Q26 -> 분야별기술인 (항만 및 해안분야)
B27: 김승호 | C27: 항만 및 해안분야 | D27: 분야별기술인 | E27: 74.09.27. | F27: ㈜세일종합기술공사 | H27: 23.02.01. ~ 26.04.28. | I27: 인천신항 1-2단계 컨테이너부두 하부공 축조공사 건설사업관리용역 | O27: ( | P27: ) | Q27: =CONCATENATE(O27,C27,P27) -> (항만 및 해안분야) | R27: =D27&CHAR(10)&Q27 -> 분야별기술인 (항만 및 해안분야)
B28: 김헌수 | C28: 항만 및 해안분야 | D28: 분야별기술인 | E28: 59.02.24. | F28: 일진인터내셔날㈜ | H28: 22.12.01. ~ 26.04.28. | I28: 인천신항 1-2단계 컨테이너부두 하부공 축조공사 건설사업관리용역 | O28: ( | P28: ) | Q28: =CONCATENATE(O28,C28,P28) -> (항만 및 해안분야) | R28: =D28&CHAR(10)&Q28 -> 분야별기술인 (항만 및 해안분야)
B29: 이장배 | C29: 항만 및 해안 | D29: 기술지원기술인 | E29: 59.02.12. | F29: ㈜동명기술공단종합건축사사무소 | H29: 21.05.01. ~ 26.04.28. | I29: 인천신항 1-2단계 컨테이너부두 하부공 축조공사 건설사업관리용역 | O29: ( | P29: ) | Q29: =CONCATENATE(O29,C29,P29) -> (항만 및 해안) | R29: =D29&CHAR(10)&Q29 -> 기술지원기술인 (항만 및 해안)
B30: 이준모 | C30: 토질 및 지질 | D30: 기술지원기술인 | E30: 53.06.20. | F30: 일진인터내셔날㈜ | H30: 21.05.01. ~ 26.04.28. | I30: 인천신항 1-2단계 컨테이너부두 하부공 축조공사 건설사업관리용역 | O30: ( | P30: ) | Q30: =CONCATENATE(O30,C30,P30) -> (토질 및 지질) | R30: =D30&CHAR(10)&Q30 -> 기술지원기술인 (토질 및 지질)
B31: 공재덕 | C31: 토목구조 | D31: 기술지원기술인 | E31: 49.11.20. | F31: ㈜세광종합기술단 | H31: 21.05.01. ~ 26.04.28. | I31: 인천신항 1-2단계 컨테이너부두 하부공 축조공사 건설사업관리용역 | O31: ( | P31: ) | Q31: =CONCATENATE(O31,C31,P31) -> (토목구조) | R31: =D31&CHAR(10)&Q31 -> 기술지원기술인 (토목구조)
B32: 황선원 | C32: 토목시공 | D32: 기술지원기술인 | E32: 57.05.07. | F32: ㈜세광종합기술단 | H32: 21.05.01. ~ 26.04.28. | I32: 인천신항 1-2단계 컨테이너부두 하부공 축조공사 건설사업관리용역 | O32: ( | P32: ) | Q32: =CONCATENATE(O32,C32,P32) -> (토목시공) | R32: =D32&CHAR(10)&Q32 -> 기술지원기술인 (토목시공)
A33: 인천신항 건설사업(1단계), 인천신항 컨테이너부두(1-2단계) 개발사업 통합 사후환경영향조사용역 | B33: 정창용 | C33: 환경분야 | D33: 총괄책임평가자 | E33: 69.02.25. | F33: ㈜세광종합기술단 | G33: 항만건설실 유형우 주임 032-890-8164 | H33: 21.08.24. ~ 25.12.31. | I33: 인천신항 건설사업(1단계), 인천신항 컨테이너부두(1-2단계) 개발사업 통합 사후환경영향조사용역 | O33: ( | P33: ) | Q33: =CONCATENATE(O33,C33,P33) -> (환경분야) | R33: =D33&CHAR(10)&Q33 -> 총괄책임평가자 (환경분야)
B34: 김광석 | C34: 환경분야 | D34: 분야책임평가자 | E34: 76.03.21. | F34: ㈜아라기술 | H34: 21.08.24. ~ 25.12.31. | I34: 인천신항 건설사업(1단계), 인천신항 컨테이너부두(1-2단계) 개발사업 통합 사후환경영향조사용역 | O34: ( | P34: ) | Q34: =CONCATENATE(O34,C34,P34) -> (환경분야) | R34: =D34&CHAR(10)&Q34 -> 분야책임평가자 (환경분야)
B35: 김혁기 | C35: 항만 및 해안분야 | D35: 분야책임평가자 | E35: 42.04.15. | F35: ㈜세일종합기술공사 | H35: 21.08.24. ~ 25.12.31. | I35: 인천신항 건설사업(1단계), 인천신항 컨테이너부두(1-2단계) 개발사업 통합 사후환경영향조사용역 | O35: ( | P35: ) | Q35: =CONCATENATE(O35,C35,P35) -> (항만 및 해안분야) | R35: =D35&CHAR(10)&Q35 -> 분야책임평가자 (항만 및 해안분야)
B36: 임종일 | C36: 환경분야 | D36: 분야참여평가자 | E36: 80.10.05. | F36: ㈜세광종합기술단 | H36: 21.08.24. ~ 25.12.31. | I36: 인천신항 건설사업(1단계), 인천신항 컨테이너부두(1-2단계) 개발사업 통합 사후환경영향조사용역 | O36: ( | P36: ) | Q36: =CONCATENATE(O36,C36,P36) -> (환경분야) | R36: =D36&CHAR(10)&Q36 -> 분야참여평가자 (환경분야)
B37: 최종필 | C37: 환경분야 | D37: 분야참여평가자 | E37: 56.08.19. | F37: 대한환경평가그룹㈜ | H37: 21.08.24. ~ 25.12.31. | I37: 인천신항 건설사업(1단계), 인천신항 컨테이너부두(1-2단계) 개발사업 통합 사후환경영향조사용역 | O37: ( | P37: ) | Q37: =CONCATENATE(O37,C37,P37) -> (환경분야) | R37: =D37&CHAR(10)&Q37 -> 분야참여평가자 (환경분야)
B38: 강희경 | C38: 환경분야 | D38: 참여기술자 | E38: 83.08.16. | F38: ㈜세광종합기술단 | H38: 21.08.24. ~ 25.12.31. | I38: 인천신항 건설사업(1단계), 인천신항 컨테이너부두(1-2단계) 개발사업 통합 사후환경영향조사용역 | O38: ( | P38: ) | Q38: =CONCATENATE(O38,C38,P38) -> (환경분야) | R38: =D38&CHAR(10)&Q38 -> 참여기술자 (환경분야)
B39: 박도진 | C39: 환경분야 | D39: 참여기술자 | E39: 84.09.19. | F39: ㈜세광종합기술단 | H39: 21.08.24. ~ 25.12.31. | I39: 인천신항 건설사업(1단계), 인천신항 컨테이너부두(1-2단계) 개발사업 통합 사후환경영향조사용역 | O39: ( | P39: ) | Q39: =CONCATENATE(O39,C39,P39) -> (환경분야) | R39: =D39&CHAR(10)&Q39 -> 참여기술자 (환경분야)
B40: 정현정 | C40: 환경분야 | D40: 참여기술자 | E40: 91.09.14. | F40: ㈜세광종합기술단 | H40: 21.08.24. ~ 25.12.31. | I40: 인천신항 건설사업(1단계), 인천신항 컨테이너부두(1-2단계) 개발사업 통합 사후환경영향조사용역 | O40: ( | P40: ) | Q40: =CONCATENATE(O40,C40,P40) -> (환경분야) | R40: =D40&CHAR(10)&Q40 -> 참여기술자 (환경분야)
B41: 이경원 | C41: 환경분야 | D41: 참여기술자 | E41: 84.02.15 | F41: ㈜세광종합기술단 | H41: 25.03.01. ~ 25.12.31. | I41: 인천신항 건설사업(1단계), 인천신항 컨테이너부두(1-2단계) 개발사업 통합 사후환경영향조사용역
B42: 김완진 | C42: 환경분야 | D42: 참여기술자 | E42: 92.08.14. | F42: ㈜세광종합기술단 | H42: 21.08.24. ~ 25.12.31. | I42: 인천신항 건설사업(1단계), 인천신항 컨테이너부두(1-2단계) 개발사업 통합 사후환경영향조사용역 | O42: ( | P42: ) | Q42: =CONCATENATE(O42,C42,P42) -> (환경분야) | R42: =D42&CHAR(10)&Q42 -> 참여기술자 (환경분야)
B43: 김민재 | C43: 환경분야 | D43: 참여기술자 | E43: 97.07.10. | F43: ㈜세광종합기술단 | H43: 24.01.01. ~ 25.12.31. | I43: 인천신항 건설사업(1단계), 인천신항 컨테이너부두(1-2단계) 개발사업 통합 사후환경영향조사용역 | O43: ( | P43: ) | Q43: =CONCATENATE(O43,C43,P43) -> (환경분야) | R43: =D43&CHAR(10)&Q43 -> 참여기술자 (환경분야)
B44: 박재영 | C44: 환경분야 | D44: 참여기술자 | E44: 67.06.02 | F44: ㈜아라기술 | H44: 24.04.29. ~ 25.12.31. | I44: 인천신항 건설사업(1단계), 인천신항 컨테이너부두(1-2단계) 개발사업 통합 사후환경영향조사용역 | O44: ( | P44: ) | Q44: =CONCATENATE(O44,C44,P44) -> (환경분야) | R44: =D44&CHAR(10)&Q44 -> 참여기술자 (환경분야)
B45: 이수미 | C45: 환경분야 | D45: 참여기술자 | E45: 01.03.09. | F45: ㈜아라기술 | H45: 23.02.27. ~ 25.12.31. | I45: 인천신항 건설사업(1단계), 인천신항 컨테이너부두(1-3단계) 개발사업 통합 사후환경영향조사용역 | O45: ( | P45: ) | Q45: =CONCATENATE(O45,C45,P45) -> (환경분야) | R45: =D45&CHAR(10)&Q45 -> 참여기술자 (환경분야)
...

Sheet 한글 파일 서식
A4: 사업명 | B4: 용역기간 | C4: 용역사(지분율) | E4: 성명 | F4: 분야별 | G4: 생년월일 | H4: 참여기간
A5: 경인 아라뱃길 부속사업 사후환경영향조사용역(운영시) | B5: 18.03.26. ~ 23.03.24. | C5: (주)수성엔지니어링 (42%) | D5: 811 | E5: 최경돈 | F5: 총괄책임평가자 (수질관리) | G5: 55.10.11. | H5: 21.05.01. ~ 현재
B6: 18.03.26. ~ 23.03.24. | C6: (주)수성엔지니어링 (42%) | D6: 811 | E6: 허민구 | F6: 분야별 책임평가자 (항만 및 해양) | G6: 69.04.10. | H6: 18.03.26. ~ 현재
B7: 18.03.26. ~ 23.03.24. | C7: (주)엔탑엔지니어링 (20%) | D7: 811 | E7: 김진홍 | F7: 분야별 책임평가자 (폐기물처리) | G7: 65.01.10. | H7: 18.03.26. ~ 현재
B8: 18.03.26. ~ 23.03.24. | C8: (주)서영엔지니어링 (38%) | D8: 811 | E8: 이윤오 | F8: 참여평가자 (해양) | G8: 38.09.27. | H8: 19.08.16. ~ 현재
B9: 18.03.26. ~ 23.03.24. | C9: (주)서영엔지니어링 (38%) | D9: 811 | E9: 구명서 | F9: 참여평가자 (수질관리) | G9: 60.08.29. | H9: 22.05.01. ~ 현재
B10: 18.03.26. ~ 23.03.24. | C10: (주)수성엔지니어링 (42%) | D10: 811 | E10: 김재석 | F10: 참여평가자 (수질관리) | G10: 57.04.12. | H10: 21.01.01. ~ 현재
B11: 18.03.26. ~ 23.03.24. | C11: (주)수성엔지니어링 (42%) | D11: 811 | E11: 김동일 | F11: 참여평가자 (폐기물처리) | G11: 68.03.05. | H11: 21.01.01. ~ 현재
B12: 18.03.26. ~ 23.03.24. | C12: (주)수성엔지니어링 (42%) | D12: 811 | E12: 강 헌 | F12: 참여평가자 (항만 및 해양) | G12: 54.03.04. | H12: 22.01.01. ~ 현재
B13: 18.03.26. ~ 23.03.24. | C13: (주)수성엔지니어링 (42%) | D13: 811 | E13: 임대중 | F13: 참여평가자 (수질관리) | G13: 88.06.21. | H13: 21.01.01. ~ 현재
B14: 18.03.26. ~ 23.03.24. | C14: (주)수성엔지니어링 (42%) | D14: 811 | E14: 최진용 | F14: 참여평가자 (대기관리) | G14: 85.05.05. | H14: 22.01.01. ~ 현재
B15: 18.03.26. ~ 23.03.24. | C15: (주)수성엔지니어링 (42%) | D15: 811 | E15: 김화섭 | F15: 참여평가자 (수질관리) | G15: 76.09.03. | H15: 22.11.14. ~ 현재
B16: 18.03.26. ~ 23.03.24. | C16: (주)수성엔지니어링 (42%) | D16: 811 | E16: 백민화 | F16: 참여평가자 (소음진동) | G16: 93.04.23. | H16: 22.01.01. ~ 현재
B17: 18.03.26. ~ 23.03.24. | C17: (주)수성엔지니어링 (42%) | D17: 811 | E17: 우지혜 | F17: 참여평가자 (수질관리) | G17: 92.07.15. | H17: 21.01.01. ~ 현재
... B31: 18.03.26. ~ 23.03.24. | C31: (주)엔탑엔지니어링 (20%) | D31: 811 | E31: 박은정 | F31: 참여평가자 (소음진동) | G31: 91.10.08. | H31: 21.03.25. ~ 현재
A32: 인천항 국제여객부두 건설사업 통합 사후환경영향조사용역(운영시) | B32: 19.04.25. ~ 23.04.30. | C32: (주)수성엔지니어링 (50%) | D32: 1748 | E32: 최경돈 | F32: 총괄책임평가자 (수질관리) | G32: 55.10.11. | H32: 21.05.01. ~ 현재
B33: 19.04.25. ~ 23.04.30. | C33: (주)수성엔지니어링 (50%) | D33: 1748 | E33: 허민구 | F33: 분야별 책임평가자 (항만및해양) | G33: 69.04.10. | H33: 19.04.25. ~ 현재
B34: 19.04.25. ~ 23.04.30. | C34: (주)혜인이엔씨 (40%) | D34: 1748 | E34: 김진복 | F34: 분야별 책임평가자 (소음진동) | G34: 76.11.20. | H34: 19.04.25. ~ 현재
B35: 19.04.25. ~ 23.04.30. | C35: (주)혜인이엔씨 (40%) | D35: 1748 | E35: 안정희 | F35: 참여평가자 (폐기물처리) | G35: 42.07.25. | H35: 19.04.25. ~ 현재
B36: 19.04.25. ~ 23.04.30. | C36: (주)수성엔지니어링 (50%) | D36: 1748 | E36: 김동일 | F36: 참여평가자 (대기관리) | G36: 68.03.05. | H36: 21.01.01. ~ 현재
B37: 19.04.25. ~ 23.04.30. | C37: (주)수성엔지니어링 (50%) | D37: 1748 | E37: 강 헌 | F37: 참여평가자 (항만및해양) | G37: 54.03.04. | H37: 22.01.01. ~ 현재
B38: 19.04.25. ~ 23.04.30. | C38: (주)수성엔지니어링 (50%) | D38: 1748 | E38: 최진용 | F38: 참여평가자 (대기관리) | G38: 85.05.05. | H38: 22.01.01~ ~ 현재
B39: 19.04.25. ~ 23.04.30. | C39: (주)수성엔지니어링 (50%) | D39: 1748 | E39: 조지행 | F39: 참여평가자 (수질관리) | G39: 80.10.25. | H39: 22.01.01~ ~ 현재
B40: 19.04.25. ~ 23.04.30. | C40: (주)수성엔지니어링 (50%) | D40: 1748 | E40: 김휘래 | F40: 참여평가자 (자연환경) | G40: 96.02.23. | H40: 22.11.14. ~ 현재
B41: 19.04.25. ~ 23.04.30. | C41: (주)수성엔지니어링 (50%) | D41: 1748 | E41: 조효연 | F41: 참여평가자 (대기관리) | G41: 94.05.05. | H41: 22.07.12. ~ 현재
B42: 19.04.25. ~ 23.04.30. | C42: (주)수성엔지니어링 (50%) | D42: 1748 | E42: 임대중 | F42: 참여평가자 (수질관리) | G42: 88.06.21. | H42: 21.01.01. ~ 현재
B43: 19.04.25. ~ 23.04.30. | C43: (주)수성엔지니어링 (50%) | D43: 1748 | E43: 이윤원 | F43: 참여평가자 (수질관리) | G43: 69.09.20. | H43: 22.07.01. ~ 현재
B44: 19.04.25. ~ 23.04.30. | C44: (주)수성엔지니어링 (50%) | D44: 1748 | E44: 정소혜 | F44: 참여평가자 (자연환경) | G44: 93.11.28. | H44: 21.01.01. ~ 현재
... B59: 19.04.25. ~ 23.04.30. | C59: (주)혜인이엔씨 (40%) | D59: 1748 | E59: 김성아 | F59: 참여평가자 (대기환경) | G59: 97.03.08. | H59: 22.11.01. ~ 현재
A60: 인천북항(북측) 배후단지 조성사업 사후환경영향조사용역 | B60: 18.10.02 ~ 23.06.30 | C60: (주)도화엔지니어링 (65%) | D60: 467 | E60: 박순달 | F60: 총괄 책임평가자 (환경분야별 ) | G60: 52.01.13. | H60: 18.10.02. ~ 현재
B61: 18.10.02 ~ 23.06.30 | C61: (주)도화엔지니어링 (65%) | D61: 467 | E61: 이윤한 | F61: 분야별 책임평가자 (항만 및 해안) | G61: 50.10.15. | H61: 19.05.08. ~ 현재
B62: 18.10.02 ~ 23.06.30 | C62: (주)도화엔지니어링 (65%) | D62: 467 | E62: 박관순 | F62: 분야별 책임평가자 (환경분야별 ) | G62: 47.02.24. | H62: 18.10.02 ~ 현재
B63: 18.10.02 ~ 23.06.30 | C63: (주)동아기술공사 (15%) | D63: 467 | E63: 김병욱 | F63: 참여평가자 (환경분야별 ) | G63: 51.07.29. | H63: 22.03.17. ~ 현재
B64: 18.10.02 ~ 23.06.30 | C64: (주)건일 (20%) | D64: 467 | E64: 선웅배 | F64: 참여평가자 (환경분야별 ) | G64: 80.03.15. | H64: 22.05.01. ~ 현재
B65: 18.10.02 ~ 23.06.30 | C65: (주)도화엔지니어링 (65%) | D65: 467 | E65: 조기창 | F65: 참여평가자 (환경분야별 ) | G65: 57.01.11. | H65: 18.10.02. ~ 현재
B66: 18.10.02 ~ 23.06.30 | C66: (주)도화엔지니어링 (65%) | D66: 467 | E66: 서병철 | F66: 참여평가자 (환경분야별 ) | G66: 74.12.11. | H66: 22.03.03. ~ 현재
B67: 18.10.02 ~ 23.06.30 | C67: (주)도화엔지니어링 (65%) | D67: 467 | E67: 박병원 | F67: 참여평가자 (환경분야별 ) | G67: 57.10.05. | H67: 18.10.02. ~ 현재
B68: 18.10.02 ~ 23.06.30 | C68: (주)도화엔지니어링 (65%) | D68: 467 | E68: 김상진 | F68: 참여평가자 (환경분야별 ) | G68: 78.05.10. | H68: 22.07.15. ~ 현재
B69: 18.10.02 ~ 23.06.30 | C69: (주)도화엔지니어링 (65%) | D69: 467 | E69: 서창훈 | F69: 참여평가자 (환경분야별 ) | G69: 87.11.18. | H69: 19.06.03. ~ 현재
B70: 18.10.02 ~ 23.06.30 | C70: (주)도화엔지니어링 (65%) | D70: 467 | E70: 이경원 | F70: 참여평가자 (환경분야별 ) | G70: 84.02.15. | H70: 21.01.14. ~ 현재
...

Sheet 중복도 조회
C6: 중복도 조회
C8: 정보입력 | F8: 우리공사 진행용역 리스트 내 | M8: 지분은 직접가서 보자.
C9: 이름 | D9: 생년월일 | E9: 회사 | F9: 이름 | G9: 생년월일 | H9: 사업명 | I9: 분야 | J9: 참여기간 | K9: 구분 | L9: 회사 | M9: 지분
F10: =VLOOKUP($C10,기술자현황!$B$4:$I$119,1,FALSE) -> #N/A | G10: =VLOOKUP($C10,기술자현황!$B$4:$I$119,4,FALSE) -> #N/A | H10: =VLOOKUP($C10,기술자현황!$B$4:$I$119,8,FALSE) -> #N/A | I10: =VLOOKUP($C10,기술자현황!$B$4:$I$119,2,FALSE) -> #N/A | J10: =VLOOKUP($C10,기술자현황!$B$4:$I$119,7,FALSE) -> #N/A | K10: =VLOOKUP($C10,기술자현황!$B$4:$I$119,3,FALSE) -> #N/A | L10: =VLOOKUP($C10,기술자현황!$B$4:$I$119,5,FALSE) -> #N/A | M10: =VLOOKUP($H10,사업현황!$A$4:$K$140,8,FALSE) -> #N/A
F11: =VLOOKUP($C11,기술자현황!$B$4:$I$119,1,FALSE) -> #N/A | G11: =VLOOKUP($C11,기술자현황!$B$4:$I$119,4,FALSE) -> #N/A | H11: =VLOOKUP($C11,기술자현황!$B$4:$I$119,8,FALSE) -> #N/A | I11: =VLOOKUP($C11,기술자현황!$B$4:$I$119,2,FALSE) -> #N/A | J11: =VLOOKUP($C11,기술자현황!$B$4:$I$119,7,FALSE) -> #N/A | K11: =VLOOKUP($C11,기술자현황!$B$4:$I$119,3,FALSE) -> #N/A | L11: =VLOOKUP($C11,기술자현황!$B$4:$I$119,5,FALSE) -> #N/A | M11: =VLOOKUP($H11,사업현황!$A$4:$K$140,8,FALSE) -> #N/A
F12: =VLOOKUP($C12,기술자현황!$B$4:$I$119,1,FALSE) -> #N/A | G12: =VLOOKUP($C12,기술자현황!$B$4:$I$119,4,FALSE) -> #N/A | H12: =VLOOKUP($C12,기술자현황!$B$4:$I$119,8,FALSE) -> #N/A | I12: =VLOOKUP($C12,기술자현황!$B$4:$I$119,2,FALSE) -> #N/A | J12: =VLOOKUP($C12,기술자현황!$B$4:$I$119,7,FALSE) -> #N/A | K12: =VLOOKUP($C12,기술자현황!$B$4:$I$119,3,FALSE) -> #N/A | L12: =VLOOKUP($C12,기술자현황!$B$4:$I$119,5,FALSE) -> #N/A | M12: =VLOOKUP($H12,사업현황!$A$4:$K$140,8,FALSE) -> #N/A
F13: =VLOOKUP($C13,기술자현황!$B$4:$I$119,1,FALSE) -> #N/A | G13: =VLOOKUP($C13,기술자현황!$B$4:$I$119,4,FALSE) -> #N/A | H13: =VLOOKUP($C13,기술자현황!$B$4:$I$119,8,FALSE) -> #N/A | I13: =VLOOKUP($C13,기술자현황!$B$4:$I$119,2,FALSE) -> #N/A | J13: =VLOOKUP($C13,기술자현황!$B$4:$I$119,7,FALSE) -> #N/A | K13: =VLOOKUP($C13,기술자현황!$B$4:$I$119,3,FALSE) -> #N/A | L13: =VLOOKUP($C13,기술자현황!$B$4:$I$119,5,FALSE) -> #N/A | M13: =VLOOKUP($H13,사업현황!$A$4:$K$140,8,FALSE) -> #N/A
F14: =VLOOKUP($C14,기술자현황!$B$4:$I$119,1,FALSE) -> #N/A | G14: =VLOOKUP($C14,기술자현황!$B$4:$I$119,4,FALSE) -> #N/A | H14: =VLOOKUP($C14,기술자현황!$B$4:$I$119,8,FALSE) -> #N/A | I14: =VLOOKUP($C14,기술자현황!$B$4:$I$119,2,FALSE) -> #N/A | J14: =VLOOKUP($C14,기술자현황!$B$4:$I$119,7,FALSE) -> #N/A | K14: =VLOOKUP($C14,기술자현황!$B$4:$I$119,3,FALSE) -> #N/A | L14: =VLOOKUP($C14,기술자현황!$B$4:$I$119,5,FALSE) -> #N/A | M14: =VLOOKUP($H14,사업현황!$A$4:$K$140,8,FALSE) -> #N/A
F15: =VLOOKUP($C15,기술자현황!$B$4:$I$119,1,FALSE) -> #N/A | G15: =VLOOKUP($C15,기술자현황!$B$4:$I$119,4,FALSE) -> #N/A | H15: =VLOOKUP($C15,기술자현황!$B$4:$I$119,8,FALSE) -> #N/A | I15: =VLOOKUP($C15,기술자현황!$B$4:$I$119,2,FALSE) -> #N/A | J15: =VLOOKUP($C15,기술자현황!$B$4:$I$119,7,FALSE) -> #N/A | K15: =VLOOKUP($C15,기술자현황!$B$4:$I$119,3,FALSE) -> #N/A | L15: =VLOOKUP($C15,기술자현황!$B$4:$I$119,5,FALSE) -> #N/A | M15: =VLOOKUP($H15,사업현황!$A$4:$K$140,8,FALSE) -> #N/A
F16: =VLOOKUP($C16,기술자현황!$B$4:$I$119,1,FALSE) -> #N/A | G16: =VLOOKUP($C16,기술자현황!$B$4:$I$119,4,FALSE) -> #N/A | H16: =VLOOKUP($C16,기술자현황!$B$4:$I$119,8,FALSE) -> #N/A | I16: =VLOOKUP($C16,기술자현황!$B$4:$I$119,2,FALSE) -> #N/A | J16: =VLOOKUP($C16,기술자현황!$B$4:$I$119,7,FALSE) -> #N/A | K16: =VLOOKUP($C16,기술자현황!$B$4:$I$119,3,FALSE) -> #N/A | L16: =VLOOKUP($C16,기술자현황!$B$4:$I$119,5,FALSE) -> #N/A | M16: =VLOOKUP($H16,사업현황!$A$4:$K$140,8,FALSE) -> #N/A
F17: =VLOOKUP($C17,기술자현황!$B$4:$I$119,1,FALSE) -> #N/A | G17: =VLOOKUP($C17,기술자현황!$B$4:$I$119,4,FALSE) -> #N/A | H17: =VLOOKUP($C17,기술자현황!$B$4:$I$119,8,FALSE) -> #N/A | I17: =VLOOKUP($C17,기술자현황!$B$4:$I$119,2,FALSE) -> #N/A | J17: =VLOOKUP($C17,기술자현황!$B$4:$I$119,7,FALSE) -> #N/A | K17: =VLOOKUP($C17,기술자현황!$B$4:$I$119,3,FALSE) -> #N/A | L17: =VLOOKUP($C17,기술자현황!$B$4:$I$119,5,FALSE) -> #N/A | M17: =VLOOKUP($H17,사업현황!$A$4:$K$140,8,FALSE) -> #N/A
F18: =VLOOKUP($C18,기술자현황!$B$4:$I$119,1,FALSE) -> #N/A | G18: =VLOOKUP($C18,기술자현황!$B$4:$I$119,4,FALSE) -> #N/A | H18: =VLOOKUP($C18,기술자현황!$B$4:$I$119,8,FALSE) -> #N/A | I18: =VLOOKUP($C18,기술자현황!$B$4:$I$119,2,FALSE) -> #N/A | J18: =VLOOKUP($C18,기술자현황!$B$4:$I$119,7,FALSE) -> #N/A | K18: =VLOOKUP($C18,기술자현황!$B$4:$I$119,3,FALSE) -> #N/A | L18: =VLOOKUP($C18,기술자현황!$B$4:$I$119,5,FALSE) -> #N/A | M18: =VLOOKUP($H18,사업현황!$A$4:$K$140,8,FALSE) -> #N/A
F19: =VLOOKUP($C19,기술자현황!$B$4:$I$119,1,FALSE) -> #N/A | G19: =VLOOKUP($C19,기술자현황!$B$4:$I$119,4,FALSE) -> #N/A | H19: =VLOOKUP($C19,기술자현황!$B$4:$I$119,8,FALSE) -> #N/A | I19: =VLOOKUP($C19,기술자현황!$B$4:$I$119,2,FALSE) -> #N/A | J19: =VLOOKUP($C19,기술자현황!$B$4:$I$119,7,FALSE) -> #N/A | K19: =VLOOKUP($C19,기술자현황!$B$4:$I$119,3,FALSE) -> #N/A | L19: =VLOOKUP($C19,기술자현황!$B$4:$I$119,5,FALSE) -> #N/A | M19: =VLOOKUP($H19,사업현황!$A$4:$K$140,8,FALSE) -> #N/A
F20: =VLOOKUP($C20,기술자현황!$B$4:$I$119,1,FALSE) -> #N/A | G20: =VLOOKUP($C20,기술자현황!$B$4:$I$119,4,FALSE) -> #N/A | H20: =VLOOKUP($C20,기술자현황!$B$4:$I$119,8,FALSE) -> #N/A | I20: =VLOOKUP($C20,기술자현황!$B$4:$I$119,2,FALSE) -> #N/A | J20: =VLOOKUP($C20,기술자현황!$B$4:$I$119,7,FALSE) -> #N/A | K20: =VLOOKUP($C20,기술자현황!$B$4:$I$119,3,FALSE) -> #N/A | L20: =VLOOKUP($C20,기술자현황!$B$4:$I$119,5,FALSE) -> #N/A | M20: =VLOOKUP($H20,사업현황!$A$4:$K$140,8,FALSE) -> #N/A
F21: =VLOOKUP($C21,기술자현황!$B$4:$I$119,1,FALSE) -> #N/A | G21: =VLOOKUP($C21,기술자현황!$B$4:$I$119,4,FALSE) -> #N/A | H21: =VLOOKUP($C21,기술자현황!$B$4:$I$119,8,FALSE) -> #N/A | I21: =VLOOKUP($C21,기술자현황!$B$4:$I$119,2,FALSE) -> #N/A | J21: =VLOOKUP($C21,기술자현황!$B$4:$I$119,7,FALSE) -> #N/A | K21: =VLOOKUP($C21,기술자현황!$B$4:$I$119,3,FALSE) -> #N/A | L21: =VLOOKUP($C21,기술자현황!$B$4:$I$119,5,FALSE) -> #N/A | M21: =VLOOKUP($H21,사업현황!$A$4:$K$140,8,FALSE) -> #N/A
... F426: =VLOOKUP($C426,기술자현황!$B$4:$I$119,1,FALSE) -> #N/A | G426: =VLOOKUP($C426,기술자현황!$B$4:$I$119,4,FALSE) -> #N/A | H426: =VLOOKUP($C426,기술자현황!$B$4:$I$119,8,FALSE) -> #N/A | I426: =VLOOKUP($C426,기술자현황!$B$4:$I$119,2,FALSE) -> #N/A | J426: =VLOOKUP($C426,기술자현황!$B$4:$I$119,7,FALSE) -> #N/A | K426: =VLOOKUP($C426,기술자현황!$B$4:$I$119,3,FALSE) -> #N/A | L426: =VLOOKUP($C426,기술자현황!$B$4:$I$119,5,FALSE) -> #N/A | M426: =VLOOKUP($H426,사업현황!$A$4:$K$140,8,FALSE) -> #N/A
F427: =VLOOKUP($C427,기술자현황!$B$4:$I$206,1,FALSE) -> #N/A | G427: =VLOOKUP($C427,기술자현황!$B$4:$I$206,4,FALSE) -> #N/A | H427: =VLOOKUP($C427,기술자현황!$B$4:$I$206,8,FALSE) -> #N/A | I427: =VLOOKUP($C427,기술자현황!$B$4:$I$206,2,FALSE) -> #N/A | J427: =VLOOKUP($C427,기술자현황!$B$4:$I$206,7,FALSE) -> #N/A | K427: =VLOOKUP($C427,기술자현황!$B$4:$I$206,3,FALSE) -> #N/A | L427: =VLOOKUP($C427,기술자현황!$B$4:$I$206,5,FALSE) -> #N/A | M427: =VLOOKUP($H427,사업현황!$A$4:$K$140,8,FALSE) -> #N/A
F428: =VLOOKUP($C428,기술자현황!$B$4:$I$206,1,FALSE) -> #N/A | G428: =VLOOKUP($C428,기술자현황!$B$4:$I$206,4,FALSE) -> #N/A | H428: =VLOOKUP($C428,기술자현황!$B$4:$I$206,8,FALSE) -> #N/A | I428: =VLOOKUP($C428,기술자현황!$B$4:$I$206,2,FALSE) -> #N/A | J428: =VLOOKUP($C428,기술자현황!$B$4:$I$206,7,FALSE) -> #N/A | K428: =VLOOKUP($C428,기술자현황!$B$4:$I$206,3,FALSE) -> #N/A | L428: =VLOOKUP($C428,기술자현황!$B$4:$I$206,5,FALSE) -> #N/A | M428: =VLOOKUP($H428,사업현황!$A$4:$K$140,8,FALSE) -> #N/A
F429: =VLOOKUP($C429,기술자현황!$B$4:$I$206,1,FALSE) -> #N/A | G429: =VLOOKUP($C429,기술자현황!$B$4:$I$206,4,FALSE) -> #N/A | H429: =VLOOKUP($C429,기술자현황!$B$4:$I$206,8,FALSE) -> #N/A | I429: =VLOOKUP($C429,기술자현황!$B$4:$I$206,2,FALSE) -> #N/A | J429: =VLOOKUP($C429,기술자현황!$B$4:$I$206,7,FALSE) -> #N/A | K429: =VLOOKUP($C429,기술자현황!$B$4:$I$206,3,FALSE) -> #N/A | L429: =VLOOKUP($C429,기술자현황!$B$4:$I$206,5,FALSE) -> #N/A | M429: =VLOOKUP($H429,사업현황!$A$4:$K$140,8,FALSE) -> #N/A
F430: =VLOOKUP($C430,기술자현황!$B$4:$I$206,1,FALSE) -> #N/A | G430: =VLOOKUP($C430,기술자현황!$B$4:$I$206,4,FALSE) -> #N/A | H430: =VLOOKUP($C430,기술자현황!$B$4:$I$206,8,FALSE) -> #N/A | I430: =VLOOKUP($C430,기술자현황!$B$4:$I$206,2,FALSE) -> #N/A | J430: =VLOOKUP($C430,기술자현황!$B$4:$I$206,7,FALSE) -> #N/A | K430: =VLOOKUP($C430,기술자현황!$B$4:$I$206,3,FALSE) -> #N/A | L430: =VLOOKUP($C430,기술자현황!$B$4:$I$206,5,FALSE) -> #N/A | M430: =VLOOKUP($H430,사업현황!$A$4:$K$140,8,FALSE) -> #N/A
F431: =VLOOKUP($C431,기술자현황!$B$4:$I$206,1,FALSE) -> #N/A | G431: =VLOOKUP($C431,기술자현황!$B$4:$I$206,4,FALSE) -> #N/A | H431: =VLOOKUP($C431,기술자현황!$B$4:$I$206,8,FALSE) -> #N/A | I431: =VLOOKUP($C431,기술자현황!$B$4:$I$206,2,FALSE) -> #N/A | J431: =VLOOKUP($C431,기술자현황!$B$4:$I$206,7,FALSE) -> #N/A | K431: =VLOOKUP($C431,기술자현황!$B$4:$I$206,3,FALSE) -> #N/A | L431: =VLOOKUP($C431,기술자현황!$B$4:$I$206,5,FALSE) -> #N/A | M431: =VLOOKUP($H431,사업현황!$A$4:$K$140,8,FALSE) -> #N/A
F432: =VLOOKUP($C432,기술자현황!$B$4:$I$206,1,FALSE) -> #N/A | G432: =VLOOKUP($C432,기술자현황!$B$4:$I$206,4,FALSE) -> #N/A | H432: =VLOOKUP($C432,기술자현황!$B$4:$I$206,8,FALSE) -> #N/A | I432: =VLOOKUP($C432,기술자현황!$B$4:$I$206,2,FALSE) -> #N/A | J432: =VLOOKUP($C432,기술자현황!$B$4:$I$206,7,FALSE) -> #N/A | K432: =VLOOKUP($C432,기술자현황!$B$4:$I$206,3,FALSE) -> #N/A | L432: =VLOOKUP($C432,기술자현황!$B$4:$I$206,5,FALSE) -> #N/A | M432: =VLOOKUP($H432,사업현황!$A$4:$K$140,8,FALSE) -> #N/A
F433: =VLOOKUP($C433,기술자현황!$B$4:$I$206,1,FALSE) -> #N/A | G433: =VLOOKUP($C433,기술자현황!$B$4:$I$206,4,FALSE) -> #N/A | H433: =VLOOKUP($C433,기술자현황!$B$4:$I$206,8,FALSE) -> #N/A | I433: =VLOOKUP($C433,기술자현황!$B$4:$I$206,2,FALSE) -> #N/A | J433: =VLOOKUP($C433,기술자현황!$B$4:$I$206,7,FALSE) -> #N/A | K433: =VLOOKUP($C433,기술자현황!$B$4:$I$206,3,FALSE) -> #N/A | L433: =VLOOKUP($C433,기술자현황!$B$4:$I$206,5,FALSE) -> #N/A | M433: =VLOOKUP($H433,사업현황!$A$4:$K$140,8,FALSE) -> #N/A
F434: =VLOOKUP($C434,기술자현황!$B$4:$I$206,1,FALSE) -> #N/A | G434: =VLOOKUP($C434,기술자현황!$B$4:$I$206,4,FALSE) -> #N/A | H434: =VLOOKUP($C434,기술자현황!$B$4:$I$206,8,FALSE) -> #N/A | I434: =VLOOKUP($C434,기술자현황!$B$4:$I$206,2,FALSE) -> #N/A | J434: =VLOOKUP($C434,기술자현황!$B$4:$I$206,7,FALSE) -> #N/A | K434: =VLOOKUP($C434,기술자현황!$B$4:$I$206,3,FALSE) -> #N/A | L434: =VLOOKUP($C434,기술자현황!$B$4:$I$206,5,FALSE) -> #N/A | M434: =VLOOKUP($H434,사업현황!$A$4:$K$140,8,FALSE) -> #N/A
F435: =VLOOKUP($C435,기술자현황!$B$4:$I$206,1,FALSE) -> #N/A | G435: =VLOOKUP($C435,기술자현황!$B$4:$I$206,4,FALSE) -> #N/A | H435: =VLOOKUP($C435,기술자현황!$B$4:$I$206,8,FALSE) -> #N/A | I435: =VLOOKUP($C435,기술자현황!$B$4:$I$206,2,FALSE) -> #N/A | J435: =VLOOKUP($C435,기술자현황!$B$4:$I$206,7,FALSE) -> #N/A | K435: =VLOOKUP($C435,기술자현황!$B$4:$I$206,3,FALSE) -> #N/A | L435: =VLOOKUP($C435,기술자현황!$B$4:$I$206,5,FALSE) -> #N/A | M435: =VLOOKUP($H435,사업현황!$A$4:$K$140,8,FALSE) -> #N/A
F436: =VLOOKUP($C436,기술자현황!$B$4:$I$206,1,FALSE) -> #N/A | G436: =VLOOKUP($C436,기술자현황!$B$4:$I$206,4,FALSE) -> #N/A | H436: =VLOOKUP($C436,기술자현황!$B$4:$I$206,8,FALSE) -> #N/A | I436: =VLOOKUP($C436,기술자현황!$B$4:$I$206,2,FALSE) -> #N/A | J436: =VLOOKUP($C436,기술자현황!$B$4:$I$206,7,FALSE) -> #N/A | K436: =VLOOKUP($C436,기술자현황!$B$4:$I$206,3,FALSE) -> #N/A | L436: =VLOOKUP($C436,기술자현황!$B$4:$I$206,5,FALSE) -> #N/A | M436: =VLOOKUP($H436,사업현황!$A$4:$K$140,8,FALSE) -> #N/A
F437: =VLOOKUP($C437,기술자현황!$B$4:$I$206,1,FALSE) -> #N/A | G437: =VLOOKUP($C437,기술자현황!$B$4:$I$206,4,FALSE) -> #N/A | H437: =VLOOKUP($C437,기술자현황!$B$4:$I$206,8,FALSE) -> #N/A | I437: =VLOOKUP($C437,기술자현황!$B$4:$I$206,2,FALSE) -> #N/A | J437: =VLOOKUP($C437,기술자현황!$B$4:$I$206,7,FALSE) -> #N/A | K437: =VLOOKUP($C437,기술자현황!$B$4:$I$206,3,FALSE) -> #N/A | L437: =VLOOKUP($C437,기술자현황!$B$4:$I$206,5,FALSE) -> #N/A | M437: =VLOOKUP($H437,사업현황!$A$4:$K$140,8,FALSE) -> #N/A
F438: =VLOOKUP($C438,기술자현황!$B$4:$I$206,1,FALSE) -> #N/A | G438: =VLOOKUP($C438,기술자현황!$B$4:$I$206,4,FALSE) -> #N/A | H438: =VLOOKUP($C438,기술자현황!$B$4:$I$206,8,FALSE) -> #N/A | I438: =VLOOKUP($C438,기술자현황!$B$4:$I$206,2,FALSE) -> #N/A | J438: =VLOOKUP($C438,기술자현황!$B$4:$I$206,7,FALSE) -> #N/A | K438: =VLOOKUP($C438,기술자현황!$B$4:$I$206,3,FALSE) -> #N/A | L438: =VLOOKUP($C438,기술자현황!$B$4:$I$206,5,FALSE) -> #N/A | M438: =VLOOKUP($H438,사업현황!$A$4:$K$140,8,FALSE) -> #N/A
... F467: =VLOOKUP($C467,기술자현황!$B$4:$I$206,1,FALSE) -> #N/A | G467: =VLOOKUP($C467,기술자현황!$B$4:$I$206,4,FALSE) -> #N/A | H467: =VLOOKUP($C467,기술자현황!$B$4:$I$206,8,FALSE) -> #N/A | I467: =VLOOKUP($C467,기술자현황!$B$4:$I$206,2,FALSE) -> #N/A | J467: =VLOOKUP($C467,기술자현황!$B$4:$I$206,7,FALSE) -> #N/A | K467: =VLOOKUP($C467,기술자현황!$B$4:$I$206,3,FALSE) -> #N/A | L467: =VLOOKUP($C467,기술자현황!$B$4:$I$206,5,FALSE) -> #N/A | M467: =VLOOKUP($H467,사업현황!$A$4:$K$140,8,FALSE) -> #N/A
F468: =VLOOKUP($C468,기술자현황!$B$4:$I$119,1,FALSE) -> #N/A | G468: =VLOOKUP($C468,기술자현황!$B$4:$I$119,4,FALSE) -> #N/A

Sheet 입찰참가자격제한
A1: 용역업체 입찰참가제한 현황
A2: 용역회사 | D2: 용역명 | E2: 발주처 | F2: 입찰참가제한현황
A3: 업체명 | B3: 대표자 | C3: 주소 | F3: 처분종류 | G3: 제재기간
