Workbook

Sheet 사업현황
A2: 인천항만공사 진행중 용역 현황
A4: 사업명 | B4: 계약일 | C4: 사업시작 | D4: 사업종료 | E4: 용역금액(도급액) | F4: 용역업체 | G4: 대표자 | H4: 지분율 | I4: 비고1(종료일) | J4: 비고2 (용역일수) | K4: 비고3 (현황) | L4: 비고4 (담당부서)
A5: 2025년 인천항 항만시설물 정밀안전점검 및 성능평가 용역 | B5: 25.05.02. | C5: 25.05.02. | D5: 25.12.27. | E5: 645672000 | F5: (재)한국건설품질연구원 | G5: 안영기 | H5: 0.7 | J5: 240 | K5: 공동
A6: 2025년 인천항 항만시설물 정밀안전점검 및 성능평가 용역 | B6: 25.05.02. | C6: 25.05.02. | D6: 25.12.27. | E6: 645672000 | F6: ㈜인프라플러스 | G6: 지경희 | H6: 0.3 | J6: 240 | K6: 공동
A7: 2025년 인천항 항만시설물 정밀안전점검 및 성능평가 용역 | B7: 25.05.02. | C7: 25.05.02. | D7: 25.12.27. | E7: 645672000 | F7: ㈜용마엔지니어링 | G7: 차윤호 | H7: 분담 | J7: 240 | K7: 분담
A8: 인천신항 1-2단계 컨테이너부두 하부공 축조공사 건설사업관리용역 | B8: 21.04.29. | C8: 21.05.01. | D8: 26.04.28. | E8: 8768132000 | F8: ㈜세광종합기술단 | G8: 이재완 | H8: 0.4 | J8: 1675 | K8: 공동 | L8: 항만건설실
A9: 인천신항 1-2단계 컨테이너부두 하부공 축조공사 건설사업관리용역 | B9: 21.04.29. | C9: 21.05.01. | D9: 26.04.28. | E9: 8768132000 | F9: ㈜동명기술공단종합건축사무소 | G9: 신완수 | H9: 0.1 | J9: 1675 | K9: 공동
A10: 인천신항 1-2단계 컨테이너부두 하부공 축조공사 건설사업관리용역 | B10: 21.04.29. | C10: 21.05.01. | D10: 26.04.28. | E10: 8768132000 | F10: ㈜세일종합기술공사 | G10: 이호순 | H10: 0.15 | J10: 1675 | K10: 공동
A11: 인천신항 1-2단계 컨테이너부두 하부공 축조공사 건설사업관리용역 | B11: 21.04.29. | C11: 21.05.01. | D11: 26.04.28. | E11: 8768132000 | F11: 일진인터내셔날㈜ | G11: 류황범 | H11: 0.1 | J11: 1675 | K11: 공동
A12: 인천신항 1-2단계 컨테이너부두 하부공 축조공사 건설사업관리용역 | B12: 21.04.29. | C12: 21.05.01. | D12: 26.04.28. | E12: 8768132000 | F12: ㈜세일종합기술공사 | G12: 손병진 | H12: 0.25 | J12: 1675 | K12: 공동
A13: 인천신항 건설사업(1단계), 인천신항 컨테이너부두(1-2단계) 개발사업 통합 사후환경영향조사용역 | B13: 21.08.23. | C13: 21.08.24. | D13: 25.12.31. | E13: 2604000000 | F13: ㈜세광종합기술단 | G13: 이재완 | H13: 0.5 | J13: 1370 | K13: 공동
A14: 인천신항 건설사업(1단계), 인천신항 컨테이너부두(1-2단계) 개발사업 통합 사후환경영향조사용역 | B14: 21.08.23. | C14: 21.08.24. | D14: 25.12.31. | E14: 2604000000 | F14: 대한환경영향평가그룹㈜ | G14: 김태훈 | H14: 0.1 | J14: 1370 | K14: 공동
A15: 인천신항 건설사업(1단계), 인천신항 컨테이너부두(1-2단계) 개발사업 통합 사후환경영향조사용역 | B15: 21.08.23. | C15: 21.08.24. | D15: 25.12.31. | E15: 2604000000 | F15: ㈜세일종합기술공사 | G15: 이호순 | H15: 0.15 | J15: 1370 | K15: 공동
A16: 인천신항 건설사업(1단계), 인천신항 컨테이너부두(1-2단계) 개발사업 통합 사후환경영향조사용역 | B16: 21.08.23. | C16: 21.08.24. | D16: 25.12.31. | E16: 2288200000 | F16: ㈜아라기술 | G16: 손병진 | H16: 0.25 | J16: 1370 | K16: 공동
A17: 인천신항(1단계) 개발사업 공급 인입시설 설치공사 건설사업관리용역 | B17: 23.08.03. | C17: 23.08.25. | D17: 26.05.31. | E17: 1648000000 | F17: ㈜수성엔지니어링 | G17: 김광원 | H17: 0.5 | J17: 828 | K17: 공동
A18: 인천신항(1단계) 개발사업 공급 인입시설 설치공사 건설사업관리용역 | B18: 23.08.03. | C18: 23.08.25. | D18: 26.05.31. | E18: 1648000000 | F18: ㈜아이엔씨엔지니어링 | G18: 이규택 | H18: 0.2 | J18: 828 | K18: 공동
A19: 인천신항(1단계) 개발사업 공급 인입시설 설치공사 건설사업관리용역 | B19: 23.08.03. | C19: 23.08.25. | D19: 26.05.31. | E19: 1648000000 | F19: ㈜대영엔지니어링 | G19: 유병화 | H19: 0.3 | J19: 828 | K19: 공동
A20: 인천신항(1단계) 개발사업 공급 인입시설 설치공사 착공후 지하안전영향조사용역 | B20: 23.12.12. | C20: 23.12.12. | D20: 26.06.30. | E20: 77731000 | F20: ㈜에스앤피이엔씨 | G20: 정종민 | H20: 1 | J20: 750 | K20: 단독
... A24: 인천항 내항 1·8부두 재개발사업 기본 및 실시설계용역 | B24: 24.09.10 | C24: 24.09.10 | D24: 26.03.03 | E24: 4149000000 | F24: 일진인터내셔날㈜ | G24: 류황범 | H24: 0.2 | J24: 540 | K24: 공동
A25: 인천항 내항 1·8부두 재개발사업 기본 및 실시설계용역 | B25: 24.09.10 | C25: 24.09.10 | D25: 26.03.03 | E25: 4149000000 | F25: ㈜케이알엔지니어링 | G25: 장경식 | H25: 분담 | J25: 540 | K25: 분담
A26: 인천항 내항 1·8부두 재개발사업 기본 및 실시설계용역 | B26: 24.09.10 | C26: 24.09.10 | D26: 26.03.03 | E26: 4149000000 | F26: ㈜인우이엔씨 | G26: 장영준 | H26: 분담 | J26: 540 | K26: 분담
A27: 인천항 내항 1·8부두 재개발사업 기본 및 실시설계용역 | B27: 24.09.10 | C27: 24.09.10 | D27: 26.03.03 | E27: 4149000000 | F27: ㈜케이기술 | G27: 윤희자 | H27: 분담 | J27: 540 | K27: 분담
A28: 인천항 내항 1·8부두 재개발사업 기본 및 실시설계용역 | B28: 24.09.10 | C28: 24.09.10 | D28: 26.03.03 | E28: 4149000000 | F28: ㈜미래해양 | G28: 김진호 | H28: 분담 | J28: 540 | K28: 분담
A29: 인천항 내항 1·8부두 재개발사업 기본 및 실시설계 설계단계 건설사업관리(VE포함) 용역 | B29: 24.10.28 | C29: 24.10.29 | D29: 26.05.21 | E29: 202126000 | F29: ㈜동서엔지니어링 | G29: 이익상 | H29: 1 | J29: 570 | K29: 분담
A30: 2025년 국제여객부두 고압 육상전원공급시설(AMP) 관리운영 용역 | B30: 24.02.13. | C30: 24.02.13. | D30: 25.12.31. | E30: 925958000 | F30: ㈜에이엠피코 | G30: 강병삼 | H30: 1 | J30: 688 | K30: 단독 | L30: 항만시설실
A31: 2025년 인천항 교통안전시설 및 전력설비 CCTV 유지관리용역 | B31: 25.01.01 | C31: 25.01.01 | D31: 25.12.31 | E31: 51337000 | F31: 뉴인테크㈜ | G31: 박은영 | H31: 1 | J31: 365 | K31: 단독
A32: 2025년 인천항 태양광발전소 및 에너지저장장치(ESS) 전기안전관리용역 | B32: 24.12.30 | C32: 25.12.31 | D32: 25.12.31 | E32: 51810000 | F32: 플러스전기㈜ | G32: 유선미 | H32: 1 | J32: 365 | K32: 단독
A33: 2025년 인천항 북항배후단지 오수처리시설 유지관리용역 | B33: 24.12.27. | C33: 25.01.01. | D33: 25.12.30. | E33: 37620000 | F33: ㈜한길자연환경 | G33: 강진무 | H33: 1 | J33: 364 | K33: 단독
A34: 2025년 인천항 태양광발전소 및 에너지저장장치(ESS) 전기안전관리용역 | B34: 24.12.30 | C34: 25.12.31 | D34: 25.12.31 | E34: 51810000 | F34: 플러스전기㈜ | G34: 유선미 | H34: 1 | J34: 365 | K34: 단독 | L34: 친환경·기술개발실

Sheet 기술자현황
A2: 참여 기술자 현황
A4: 사업명 | B4: 성명 | C4: 분야 | D4: 구분 | E4: 비고1 | F4: 소속 | G4: 담당부서 | H4: 참여기간 | I4: 사업명 | J4: 용역금액 | K4: 용역기간 | L4: 참여평가자 까지 상주기술자 그 외에는 비상주 기술자
A5: 2025년 인천항 항만시설물 정밀안전점검 및 성능평가 용역 | B5: 김형일 | C5: 총괄 | D5: 사업책임기술자 | E5: 71.10.18. | F5: (재)한국건설품질연구원 | G5: 개발계획처 장선재 과장 032-890-8146 | H5: 25.05.02.~25.12.27. | I5: 2025년 인천항 항만시설물 정밀안전점검 및 성능평가 용역 | O5: ( | P5: ) | Q5: =CONCATENATE(O5,#REF!,P5) -> #REF! | R5: =#REF!&CHAR(10)&Q5 -> #REF!
B6: 김현중 | C6: 조사및시험 | D6: 분야별책임기술인 | E6: 83.01.03. | F6: (재)한국건설품질연구원 | H6: 25.05.02.~25.12.27. | I6: 2025년 인천항 항만시설물 정밀안전점검 및 성능평가 용역 | O6: ( | P6: ) | Q6: =CONCATENATE(O6,#REF!,P6) -> #REF! | R6: =#REF!&CHAR(10)&Q6 -> #REF!
B7: 김인근 | C7: 분석및평가 | D7: 분야별책임기술인 | E7: 75.06.30. | F7: ㈜인프라플러스 | H7: 25.05.02.~25.12.27. | I7: 2025년 인천항 항만시설물 정밀안전점검 및 성능평가 용역 | O7: ( | P7: ) | Q7: =CONCATENATE(O7,#REF!,P7) -> #REF! | R7: =#REF!&CHAR(10)&Q7 -> #REF!
B8: 박태희 | C8: 조사및시험 | D8: 참여기술인 | E8: 80.01.25. | F8: (재)한국건설품질연구원 | H8: 25.05.02.~25.12.27. | I8: 2025년 인천항 항만시설물 정밀안전점검 및 성능평가 용역 | O8: ( | P8: ) | Q8: =CONCATENATE(O8,#REF!,P8) -> #REF! | R8: =#REF!&CHAR(10)&Q8 -> #REF!
B9: 배용식 | C9: 조사및시험 | D9: 참여기술인 | E9: 86.12.28. | F9: (재)한국건설품질연구원 | H9: 25.05.02.~25.12.27. | I9: 2025년 인천항 항만시설물 정밀안전점검 및 성능평가 용역 | O9: ( | P9: ) | Q9: =CONCATENATE(O9,#REF!,P9) -> #REF! | R9: =#REF!&CHAR(10)&Q9 -> #REF!
B10: 최민식 | C10: 조사및시험 | D10: 참여기술인 | E10: 94.07.28. | F10: (재)한국건설품질연구원 | H10: 25.05.02.~25.12.27. | I10: 2025년 인천항 항만시설물 정밀안전점검 및 성능평가 용역 | O10: ( | P10: ) | Q10: =CONCATENATE(O10,#REF!,P10) -> #REF! | R10: =#REF!&CHAR(10)&Q10 -> #REF!
B11: 이윤복 | C11: 조사및시험 | D11: 참여기술인 | E11: 98.03.01. | F11: (재)한국건설품질연구원 | H11: 25.05.02.~25.12.27. | I11: 2025년 인천항 항만시설물 정밀안전점검 및 성능평가 용역 | O11: ( | P11: ) | Q11: =CONCATENATE(O11,#REF!,P11) -> #REF! | R11: =#REF!&CHAR(10)&Q11 -> #REF!
B12: 이원근 | C12: 조사및시험 | D12: 참여기술인 | E12: 80.10.24. | F12: ㈜인프라플러스 | H12: 25.05.02.~25.12.27. | I12: 2025년 인천항 항만시설물 정밀안전점검 및 성능평가 용역 | O12: ( | P12: ) | Q12: =CONCATENATE(O12,#REF!,P12) -> #REF! | R12: =#REF!&CHAR(10)&Q12 -> #REF!
B13: 노인태 | C13: 분석및평가 | D13: 참여기술인 | E13: 68.03.10. | F13: (재)한국건설품질연구원 | H13: 25.05.02.~25.12.27. | I13: 2025년 인천항 항만시설물 정밀안전점검 및 성능평가 용역 | O13: ( | P13: ) | Q13: =CONCATENATE(O13,#REF!,P13) -> #REF! | R13: =#REF!&CHAR(10)&Q13 -> #REF!
B14: 송상득 | C14: 분석및평가 | D14: 참여기술인 | E14: 52.11.26. | F14: (재)한국건설품질연구원 | H14: 25.05.02.~25.12.27. | I14: 2025년 인천항 항만시설물 정밀안전점검 및 성능평가 용역 | O14: ( | P14: ) | Q14: =CONCATENATE(O14,#REF!,P14) -> #REF! | R14: =#REF!&CHAR(10)&Q14 -> #REF!
B15: 박희정 | C15: 분석및평가 | D15: 참여기술인 | E15: 60.01.25. | F15: (재)한국건설품질연구원 | H15: 25.05.02.~25.12.27. | I15: 2025년 인천항 항만시설물 정밀안전점검 및 성능평가 용역 | O15: ( | P15: ) | Q15: =CONCATENATE(O15,#REF!,P15) -> #REF! | R15: =#REF!&CHAR(10)&Q15 -> #REF!
B16: 이재혁 | C16: 분석및평가 | D16: 참여기술인 | E16: 91.10.25. | F16: (재)한국건설품질연구원 | H16: 25.05.02.~25.12.27. | I16: 2025년 인천항 항만시설물 정밀안전점검 및 성능평가 용역 | O16: ( | P16: ) | Q16: =CONCATENATE(O16,#REF!,P16) -> #REF! | R16: =#REF!&CHAR(10)&Q16 -> #REF!
B17: 이창호 | C17: 분석및평가 | D17: 참여기술인 | E17: 95.10.30. | F17: ㈜인프라플러스 | H17: 25.05.02.~25.12.27. | I17: 2025년 인천항 항만시설물 정밀안전점검 및 성능평가 용역 | O17: ( | P17: ) | Q17: =CONCATENATE(O17,#REF!,P17) -> #REF! | R17: =#REF!&CHAR(10)&Q17 -> #REF!
... B21: 이임노 | C21: 실시설계 | D21: 참여기술인 | E21: 52.02.05. | F21: ㈜용마엔지니어링 | H21: 25.05.02.~25.12.27. | I21: 2025년 인천항 항만시설물 정밀안전점검 및 성능평가 용역 | O21: ( | P21: ) | Q21: =CONCATENATE(O21,#REF!,P21) -> #REF! | R21: =#REF!&CHAR(10)&Q21 -> #REF!
A22: 인천신항 1-2단계 컨테이너부두 하부공 축조공사 건설사업관리용역 | B22: 송운용 | C22: 항만 및 해안분야 | D22: 사업책임기술인 | E22: 61.11.20. | F22: ㈜세광종합기술단 | G22: 항만건설실 유형우 주임 032-890-8164 | H22: 21.05.01. ~ 26.04.28. | I22: 인천신항 1-2단계 컨테이너부두 하부공 축조공사 건설사업관리용역 | O22: ( | P22: ) | Q22: =CONCATENATE(O22,C22,P22) -> (항만 및 해안분야) | R22: =D22&CHAR(10)&Q22 -> 사업책임기술인 (항만 및 해안분야)
B23: 김윤수 | C23: 항만 및 해안분야 | D23: 분야별기술인 | E23: 59.02.02. | F23: ㈜아라기술 | H23: 21.07.01. ~ 26.04.28. | I23: 인천신항 1-2단계 컨테이너부두 하부공 축조공사 건설사업관리용역 | O23: ( | P23: ) | Q23: =CONCATENATE(O23,C23,P23) -> (항만 및 해안분야) | R23: =D23&CHAR(10)&Q23 -> 분야별기술인 (항만 및 해안분야)
B24: 이강화 | C24: 항만 및 해안분야 | D24: 분야별기술인 | E24: 74.08.10. | F24: ㈜세광종합기술단 | H24: 21.05.01. ~ 26.04.28. | I24: 인천신항 1-2단계 컨테이너부두 하부공 축조공사 건설사업관리용역 | O24: ( | P24: ) | Q24: =CONCATENATE(O24,C24,P24) -> (항만 및 해안분야) | R24: =D24&CHAR(10)&Q24 -> 분야별기술인 (항만 및 해안분야)
B25: 조형규 | C25: 토목 | D25: 분야별기술인 | E25: 56.10.28. | F25: ㈜아라기술 | H25: 21.11.01. ~ 26.04.28. | I25: 인천신항 1-2단계 컨테이너부두 하부공 축조공사 건설사업관리용역 | O25: ( | P25: ) | Q25: =CONCATENATE(O25,C25,P25) -> (토목) | R25: =D25&CHAR(10)&Q25 -> 분야별기술인 (토목)
B26: 조흥구 | C26: 항만 및 해안분야 | D26: 분야별기술인 | E26: 60.01.10. | F26: ㈜아라기술 | H26: 22.05.09. ~ 26.04.28. | I26: 인천신항 1-2단계 컨테이너부두 하부공 축조공사 건설사업관리용역 | O26: ( | P26: ) | Q26: =CONCATENATE(O26,C26,P26) -> (항만 및 해안분야) | R26: =D26&CHAR(10)&Q26 -> 분야별기술인 (항만 및 해안분야)
B27: 김승호 | C27: 항만 및 해안분야 | D27: 분야별기술인 | E27: 74.09.27. | F27: ㈜세일종합기술공사 | H27: 23.02.01. ~ 26.04.28. | I27: 인천신항 1-2단계 컨테이너부두 하부공 축조공사 건설사업관리용역 | O27: ( | P27: ) | Q27: =CONCATENATE(O27,C27,P27) -> (항만 및 해안분야) | R27: =D27&CHAR(10)&Q27 -> 분야별기술인 (항만 및 해안분야)
B28: 김헌수 | C28: 항만 및 해안분야 | D28: 분야별기술인 | E28: 59.02.24. | F28: 일진인터내셔날㈜ | H28: 22.12.01. ~ 26.04.28. | I28: 인천신항 1-2단계 컨테이너부두 하부공 축조공사 건설사업관리용역 | O28: ( | P28: ) | Q28: =CONCATENATE(O28,C28,P28) -> (항만 및 해안분야) | R28: =D28&CHAR(10)&Q28 -> 분야별기술인 (항만 및 해안분야)
B29: 이장배 | C29: 항만 및 해안 | D29: 기술지원기술인 | E29: 59.02.12. | F29: ㈜동명기술공단종합건축사사무소 | H29: 21.05.01. ~ 26.04.28. | I29: 인천신항 1-2단계 컨테이너부두 하부공 축조공사 건설사업관리용역 | O29: ( | P29: ) | Q29: =CONCATENATE(O29,C29,P29) -> (항만 및 해안) | R29: =D29&CHAR(10)&Q29 -> 기술지원기술인 (항만 및 해안)
B30: 이준모 | C30: 토질 및 지질 | D30: 기술지원기술인 | E30: 53.06.20. | F30: 일진인터내셔날㈜ | H30: 21.05.01. ~ 26.04.28. | I30: 인천신항 1-2단계 컨테이너부두 하부공 축조공사 건설사업관리용역 | O30: ( | P30: ) | Q30: =CONCATENATE(O30,C30,P30) -> (토질 및 지질) | R30: =D30&CHAR(10)&Q30 -> 기술지원기술인 (토질 및 지질)
B31: 공재덕 | C31: 토목구조 | D31: 기술지원기술인 | E31: 49.11.20. | F31: ㈜세광종합기술단 | H31: 21.05.01. ~ 26.04.28. | I31: 인천신항 1-2단계 컨테이너부두 하부공 축조공사 건설사업관리용역 | O31: ( | P31: ) | Q31: =CONCATENATE(O31,C31,P31) -> (토목구조) | R31: =D31&CHAR(10)&Q31 -> 기술지원기술인 (토목구조)
B32: 황선원 | C32: 토목시공 | D32: 기술지원기술인 | E32: 57.05.07. | F32: ㈜세광종합기술단 | H32: 21.05.01. ~ 26.04.28. | I32: 인천신항 1-2단계 컨테이너부두 하부공 축조공사 건설사업관리용역 | O32: ( | P32: ) | Q32: =CONCATENATE(O32,C32,P32) -> (토목시공) | R32: =D32&CHAR(10)&Q32 -> 기술지원기술인 (토목시공)
A33: 인천신항 건설사업(1단계), 인천신항 컨테이너부두(1-2단계) 개발사업 통합 사후환경영향조사용역 | B33: 정창용 | C33: 환경분야 | D33: 총괄책임평가자 | E33: 69.02.25. | F33: ㈜세광종합기술단 | G33: 항만건설실 유형우 주임 032-890-8164 | H33: 21.08.24. ~ 25.12.31. | I33: 인천신항 건설사업(1단계), 인천신항 컨테이너부두(1-2단계) 개발사업 통합 사후환경영향조사용역 | O33: ( | P33: ) | Q33: =CONCATENATE(O33,C33,P33) -> (환경분야) | R33: =D33&CHAR(10)&Q33 -> 총괄책임평가자 (환경분야)
B34: 김광석 | C34: 환경분야 | D34: 분야책임평가자 | E34: 76.03.21. | F34: ㈜아라기술 | H34: 21.08.24. ~ 25.12.31. | I34: 인천신항 건설사업(1단계), 인천신항 컨테이너부두(1-2단계) 개발사업 통합 사후환경영향조사용역 | O34: ( | P34: ) | Q34: =CONCATENATE(O34,C34,P34) -> (환경분야) | R34: =D34&CHAR(10)&Q34 -> 분야책임평가자 (환경분야)
B35: 김혁기 | C35: 항만 및 해안분야 | D35: 분야책임평가자 | E35: 42.04.15. | F35: ㈜세일종합기술공사 | H35: 21.08.24. ~ 25.12.31. | I35: 인천신항 건설사업(1단계), 인천신항 컨테이너부두(1-2단계) 개발사업 통합 사후환경영향조사용역 | O35: ( | P35: ) | Q35: =CONCATENATE(O35,C35,P35) -> (항만 및 해안분야) | R35: =D35&CHAR(10)&Q35 -> 분야책임평가자 (항만 및 해안분야)
B36: 임종일 | C36: 환경분야 | D36: 분야참여평가자 | E36: 80.10.05. | F36: ㈜세광종합기술단 | H36: 21.08.24. ~ 25.12.31. | I36: 인천신항 건설사업(1단계), 인천신항 컨테이너부두(1-2단계) 개발사업 통합 사후환경영향조사용역 | O36: ( | P36: ) | Q36: =CONCATENATE(O36,C36,P36) -> (환경분야) | R36: =D36&CHAR(10)&Q36 -> 분야참여평가자 (환경분야)
B37: 최종필 | C37: 환경분야 | D37: 분야참여평가자 | E37: 56.08.19. | F37: 대한환경평가그룹㈜ | H37: 21.08.24. ~ 25.12.31. | I37: 인천신항 건설사업(1단계), 인천신항 컨테이너부두(1-2단계) 개발사업 통합 사후환경영향조사용역 | O37: ( | P37: ) | Q37: =CONCATENATE(O37,C37,P37) -> (환경분야) | R37: =D37&CHAR(10)&Q37 -> 분야참여평가자 (환경분야)
B38: 강희경 | C38: 환경분야 | D38: 참여기술자 | E38: 83.08.16. | F38: ㈜세광종합기술단 | H38: 21.08.24. ~ 25.12.31. | I38: 인천신항 건설사업(1단계), 인천신항 컨테이너부두(1-2단계) 개발사업 통합 사후환경영향조사용역 | O38: ( | P38: ) | Q38: =CONCATENATE(O38,C38,P38) -> (환경분야) | R38: =D38&CHAR(10)&Q38 -> 참여기술자 (환경분야)
B39: 박도진 | C39: 환경분야 | D39: 참여기술자 | E39: 84.09.19. | F39: ㈜세광종합기술단 | H39: 21.08.24. ~ 25.12.31. | I39: 인천신항 건설사업(1단계), 인천신항 컨테이너부두(1-2단계) 개발사업 통합 사후환경영향조사용역 | O39: ( | P39: ) | Q39: =CONCATENATE(O39,C39,P39) -> (환경분야) | R39: =D39&CHAR(10)&Q39 -> 참여기술자 (환경분야)
B40: 정현정 | C40: 환경분야 | D40: 참여기술자 | E40: 91.09.14. | F40: ㈜세광종합기술단 | H40: 21.08.24. ~ 25.12.31. | I40: 인천신항 건설사업(1단계), 인천신항 컨테이너부두(1-2단계) 개발사업 통합 사후환경영향조사용역 | O40: ( | P40: ) | Q40: =CONCATENATE(O40,C40,P40) -> (환경분야) | R40: =D40&CHAR(10)&Q40 -> 참여기술자 (환경분야)
B41: 이경원 | C41: 환경분야 | D41: 참여기술자 | E41: 84.02.15 | F41: ㈜세광종합기술단 | H41: 25.03.01. ~ 25.12.31. | I41: 인천신항 건설사업(1단계), 인천신항 컨테이너부두(1-2단계) 개발사업 통합 사후환경영향조사용역
B42: 김완진 | C42: 환경분야 | D42: 참여기술자 | E42: 92.08.14. | F42: ㈜세광종합기술단 | H42: 21.08.24. ~ 25.12.31. | I42: 인천신항 건설사업(1단계), 인천신항 컨테이너부두(1-2단계) 개발사업 통합 사후환경영향조사용역 | O42: ( | P42: ) | Q42: =CONCATENATE(O42,C42,P42) -> (환경분야) | R42: =D42&CHAR(10)&Q42 -> 참여기술자 (환경분야)
B43: 김민재 | C43: 환경분야 | D43: 참여기술자 | E43: 97.07.10. | F43: ㈜세광종합기술단 | H43: 24.01.01. ~ 25.12.31. | I43: 인천신항 건설사업(1단계), 인천신항 컨테이너부두(1-2단계) 개발사업 통합 사후환경영향조사용역 | O43: ( | P43: ) | Q43: =CONCATENATE(O43,C43,P43) -> (환경분야) | R43: =D43&CHAR(10)&Q43 -> 참여기술자 (환경분야)
B44: 박재영 | C44: 환경분야 | D44: 참여기술자 | E44: 67.06.02 | F44: ㈜아라기술 | H44: 24.04.29. ~ 25.12.31. | I44: 인천신항 건설사업(1단계), 인천신항 컨테이너부두(1-2단계) 개발사업 통합 사후환경영향조사용역 | O44: ( | P44: ) | Q44: =CONCATENATE(O44,C44,P44) -> (환경분야) | R44: =D44&CHAR(10)&Q44 -> 참여기술자 (환경분야)
B45: 이수미 | C45: 환경분야 | D45: 참여기술자 | E45: 01.03.09. | F45: ㈜아라기술 | H45: 23.02.27. ~ 25.12.31. | I45: 인천신항 건설사업(1단계), 인천신항 컨테이너부두(1-3단계) 개발사업 통합 사후환경영향조사용역 | O45: ( | P45: ) | Q45: =CONCATENATE(O45,C45,P45) -> (환경분야) | R45: =D45&CHAR(10)&Q45 -> 참여기술자 (환경분야)
B46: 이지연 | C46: 환경분야 | D46: 참여기술자 | E46: 90.01.23. | F46: ㈜아라기술 | H46: 22.01.28. ~ 25.12.31. | I46: 인천신항 건설사업(1단계), 인천신항 컨테이너부두(1-4단계) 개발사업 통합 사후환경영향조사용역 | O46: ( | P46: ) | Q46: =CONCATENATE(O46,C46,P46) -> (환경분야) | R46: =D46&CHAR(10)&Q46 -> 참여기술자 (환경분야)
B47: 강우진 | C47: 환경분야 | D47: 참여기술자 | E47: 98.07.22. | F47: ㈜아라기술 | H47: 22.01.28. ~ 25.12.31. | I47: 인천신항 건설사업(1단계), 인천신항 컨테이너부두(1-2단계) 개발사업 통합 사후환경영향조사용역 | O47: ( | P47: ) | Q47: =CONCATENATE(O47,C47,P47) -> (환경분야) | R47: =D47&CHAR(10)&Q47 -> 참여기술자 (환경분야)
B48: 오성원 | C48: 환경분야 | D48: 참여기술자 | E48: 77.12.12. | F48: ㈜세일종합기술공사 | H48: 24.01.01. ~ 25.12.31. | I48: 인천신항 건설사업(1단계), 인천신항 컨테이너부두(1-2단계) 개발사업 통합 사후환경영향조사용역 | O48: ( | P48: ) | Q48: =CONCATENATE(O48,C48,P48) -> (환경분야) | R48: =D48&CHAR(10)&Q48 -> 참여기술자 (환경분야)
B49: 류호준 | C49: 환경분야 | D49: 참여기술자 | E49: 96.09.06. | F49: ㈜세일종합기술공사 | H49: 24.01.01. ~ 25.12.31. | I49: 인천신항 건설사업(1단계), 인천신항 컨테이너부두(1-2단계) 개발사업 통합 사후환경영향조사용역 | O49: ( | P49: ) | Q49: =CONCATENATE(O49,C49,P49) -> (환경분야) | R49: =D49&CHAR(10)&Q49 -> 참여기술자 (환경분야)
B50: 김선경 | C50: 환경분야 | D50: 참여기술자 | E50: 71.01.20 | F50: 대한환경평가그룹㈜ | H50: 25.02.01. ~ 25.12.31. | I50: 인천신항 건설사업(1단계), 인천신항 컨테이너부두(1-2단계) 개발사업 통합 사후환경영향조사용역 | O50: ( | P50: ) | Q50: =CONCATENATE(O50,C50,P50) -> (환경분야) | R50: =D50&CHAR(10)&Q50 -> 참여기술자 (환경분야)
B51: 최우진 | C51: 환경분야 | D51: 참여기술자 | E51: 72.04.04 | F51: 대한환경평가그룹㈜ | H51: 25.02.01. ~ 25.12.31. | I51: 인천신항 건설사업(1단계), 인천신항 컨테이너부두(1-2단계) 개발사업 통합 사후환경영향조사용역 | O51: ( | P51: ) | Q51: =CONCATENATE(O51,C51,P51) -> (환경분야) | R51: =D51&CHAR(10)&Q51 -> 참여기술자 (환경분야)
B52: 허해명 | C52: 환경분야 | D52: 참여기술자 | E52: 73.10.21 | F52: 대한환경평가그룹㈜ | H52: 25.02.01. ~ 25.12.31. | I52: 인천신항 건설사업(1단계), 인천신항 컨테이너부두(1-2단계) 개발사업 통합 사후환경영향조사용역 | O52: ( | P52: ) | Q52: =CONCATENATE(O52,C52,P52) -> (환경분야) | R52: =D52&CHAR(10)&Q52 -> 참여기술자 (환경분야)
A53: 인천신항(1단계) 개발사업 공급 인입시설 설치공사 건설사업관리용역 | B53: 박일상 | C53: 총괄 | D53: 사업책임기술인 | E53: 58.09.17. | F53: ㈜수성엔지니어링 | G53: 항만건설실 김정수 과장 032-890-8167 | H53: 23.08.25 ~ 26.05.31. | I53: 인천신항(1단계) 개발사업 공급 인입시설 설치공사 건설사업관리용역
B54: 김영호 | C54: 상하수도 | D54: 분야별기술인 | E54: 57.05.06. | F54: ㈜아이엔씨엔지니어링 | H54: 23.08.25 ~ 26.05.31. | I54: 인천신항(1단계) 개발사업 공급 인입시설 설치공사 건설사업관리용역
B55: 차경택 | C55: 안전 | D55: 분야별기술인 | E55: 69.04.22. | F55: ㈜수성엔지니어링 | H55: 23.08.25 ~ 26.05.31. | I55: 인천신항(1단계) 개발사업 공급 인입시설 설치공사 건설사업관리용역
B56: 김순주 | C56: 토질, 지질 | D56: 분야별기술인 | E56: 64.04.03 | F56: ㈜대영엔지니어링 | H56: 25.06.01 ~ 26.05.31. | I56: 인천신항(1단계) 개발사업 공급 인입시설 설치공사 건설사업관리용역
B57: 김홍석 | C57: 항만 및 해안 | D57: 기술지원기술인 | E57: 63.01.21. | F57: ㈜수성엔지니어링 | H57: 25.06.01 ~ 26.05.31. | I57: 인천신항(1단계) 개발사업 공급 인입시설 설치공사 건설사업관리용역
B58: 최재용 | C58: 상하수도 | D58: 기술지원기술인 | E58: 64.09.07. | F58: ㈜수성엔지니어링 | H58: 25.06.01 ~ 26.05.31. | I58: 인천신항(1단계) 개발사업 공급 인입시설 설치공사 건설사업관리용역
B59: 이성훈 | C59: 토질, 지질 | D59: 기술지원기술인 | E59: 70.12.23. | F59: ㈜대영엔지니어링 | H59: 25.06.01 ~ 26.05.31. | I59: 인천신항(1단계) 개발사업 공급 인입시설 설치공사 건설사업관리용역
B60: 김기용 | C60: 토목구조 | D60: 기술지원기술인 | E60: 71.06.03. | F60: ㈜수성엔지니어링 | H60: 23.08.25 ~ 26.05.31. | I60: 인천신항(1단계) 개발사업 공급 인입시설 설치공사 건설사업관리용역
A61: 인천신항(1단계) 개발사업 공급 인입시설 설치공사 착공후 지하안전영향조사용역 | B61: 이용길 | C61: 토질, 지질 | D61: 책임기술인 | E61: 68.11.24 | F61: ㈜에스앤피이엔씨 | G61: 항만건설실 김정수 과장 032-890-8167 | H61: 23.12.12 ~ 26.06.30 | I61: 인천신항(1단계) 개발사업 공급 인입시설 설치공사 착공후 지하안전영향조사용역
B62: 이종윤 | C62: 토질, 지질 | D62: 참여기술인 | E62: 55.09.13. | F62: ㈜에스앤피이엔씨 | H62: 23.12.12 ~ 26.06.30. | I62: 인천신항(1단계) 개발사업 공급 인입시설 설치공사 착공후 지하안전영향조사용역
B63: 곽경호 | C63: 토질, 지질 | D63: 참여기술인 | E63: 88.02.10 | F63: ㈜에스앤피이엔씨 | H63: 25.05.30 ~ 26.06.30. | I63: 인천신항(1단계) 개발사업 공급 인입시설 설치공사 착공후 지하안전영향조사용역
A64: 인천신항(1단계) 개발사업 공급 인입시설 전기공사 감리용역 | B64: 임광택 | C64: 전기 | D64: 참여기술자 | E64: 65.03.25. | F64: ㈜아임기술 | G64: 항만건설실 이종혁 과장 032-890-8163 | H64: 25.04.21.~26.05.31. | I64: 인천신항(1단계) 개발사업 공급 인입시설 전기공사 감리용역
A65: 인천항 내항 1·8부두 재개발사업 기본 및 실시설계용역 | B65: 이화수 | C65: 항만 및 해안 | D65: 사업책임기술자 | E65: 65.02.20 | F65: ㈜한국항만기술단 | G65: 재생사업실 박재형 과장 032-890-8091 | H65: 24.09.10. ~ 26.03.03. | I65: 인천항 내항 1·8부두 재개발사업 기본 및 실시설계용역
B66: 정준모 | C66: 항만 및 해안 | D66: 분야별책임기술인 | E66: 63.06.13 | F66: ㈜한국항만기술단 | H66: 24.09.10. ~ 26.03.03. | I66: 인천항 내항 1·8부두 재개발사업 기본 및 실시설계용역
B67: 홍위선 | C67: 토목구조 | D67: 분야별책임기술인 | E67: 53.03.30 | F67: 일진인터내셔날㈜ | H67: 24.09.10. ~ 26.03.03. | I67: 인천항 내항 1·8부두 재개발사업 기본 및 실시설계용역
B68: 양성민 | C68: 토질 및 지질 | D68: 분야별책임기술인 | E68: 83.05.04 | F68: ㈜한국항만기술단 | H68: 24.09.10. ~ 26.03.03. | I68: 인천항 내항 1·8부두 재개발사업 기본 및 실시설계용역
B69: 김익중 | C69: 토목시공 | D69: 분야별책임기술인 | E69: 52.07.25 | F69: ㈜유신 | H69: 24.09.10. ~ 26.03.03. | I69: 인천항 내항 1·8부두 재개발사업 기본 및 실시설계용역
B70: 이은석 | C70: 항만 및 해안 | D70: 참여기술인 | E70: 77.03.14 | F70: ㈜유신 | H70: 24.09.10. ~ 26.03.03. | I70: 인천항 내항 1·8부두 재개발사업 기본 및 실시설계용역
B71: 유영덕 | C71: 항만 및 해안 | D71: 참여기술인 | E71: 80.07.11 | F71: ㈜한국항만기술단 | H71: 24.09.10. ~ 26.03.03. | I71: 인천항 내항 1·8부두 재개발사업 기본 및 실시설계용역
B72: 이창용 | C72: 항만 및 해안 | D72: 참여기술인 | E72: 84.05.04 | F72: ㈜한국항만기술단 | H72: 24.09.10. ~ 26.03.03. | I72: 인천항 내항 1·8부두 재개발사업 기본 및 실시설계용역
B73: 이시준 | C73: 항만 및 해안 | D73: 참여기술인 | E73: 85.02.04 | F73: ㈜한국항만기술단 | H73: 24.09.10. ~ 26.03.03. | I73: 인천항 내항 1·8부두 재개발사업 기본 및 실시설계용역
B74: 최한규 | C74: 항만 및 해안 | D74: 참여기술인 | E74: 91.05.28 | F74: ㈜한국항만기술단 | H74: 24.09.10. ~ 26.03.03. | I74: 인천항 내항 1·8부두 재개발사업 기본 및 실시설계용역
B75: 문정성 | C75: 항만 및 해안 | D75: 참여기술인 | E75: 77.07.02 | F75: ㈜한국항만기술단 | H75: 24.09.10. ~ 26.03.03. | I75: 인천항 내항 1·8부두 재개발사업 기본 및 실시설계용역
B76: 육승민 | C76: 항만 및 해안 | D76: 참여기술인 | E76: 88.08.21 | F76: ㈜한국항만기술단 | H76: 24.09.10. ~ 26.03.03. | I76: 인천항 내항 1·8부두 재개발사업 기본 및 실시설계용역
B77: 이태한 | C77: 항만 및 해안 | D77: 참여기술인 | E77: 79.12.11 | F77: ㈜한국항만기술단 | H77: 24.09.10. ~ 26.03.03. | I77: 인천항 내항 1·8부두 재개발사업 기본 및 실시설계용역
... B108: 고상율 | C108: 측량 | D108: 참여기술인 | E108: 78.02.11 | F108: ㈜미래해양 | H108: `25.03.01. ~ `26.03.03. | I108: 인천항 내항 1·8부두 재개발사업 기본 및 실시설계용역
A109: 인천항 내항 1·8부두 재개발사업 기본 및 실시설계 설계단계 건설사업관리(VE포함) 용역 | B109: 김천일 | C109: 항만 및 해안 | D109: 사업책임기술인 | E109: 69.12.18 | F109: ㈜동서엔지니어링 | G109: 재생사업실 박재형 과장 032-890-8091 | H109: 24.10.29. ~ 26.05.21. | I109: 인천항 내항 1·8부두 재개발사업 기본 및 실시설계 설계단계 건설사업관리(VE포함) 용역
B110: 마수봉 | C110: 항만 및 해안 | D110: 분야책임기술인 | E110: 78.02.06 | F110: ㈜동서엔지니어링 | H110: 24.10.29. ~ 26.05.21. | I110: 인천항 내항 1·8부두 재개발사업 기본 및 실시설계 설계단계 건설사업관리(VE포함) 용역
B111: 정해철 | C111: 토목구조 | D111: 분야책임기술인 | E111: 62.03.30 | F111: ㈜동서엔지니어링 | H111: 24.10.29. ~ 26.05.21. | I111: 인천항 내항 1·8부두 재개발사업 기본 및 실시설계 설계단계 건설사업관리(VE포함) 용역
B112: 박재민 | C112: 토목구조 | D112: 분야참여기술인 | E112: 75.01.04 | F112: ㈜동서엔지니어링 | H112: 24.10.29. ~ 26.05.21. | I112: 인천항 내항 1·8부두 재개발사업 기본 및 실시설계 설계단계 건설사업관리(VE포함) 용역
B113: 남효동 | C113: 토목구조 | D113: 분야참여기술인 | E113: 80.02.22 | F113: ㈜동서엔지니어링 | H113: 24.10.29. ~ 26.05.21. | I113: 인천항 내항 1·8부두 재개발사업 기본 및 실시설계 설계단계 건설사업관리(VE포함) 용역
B114: 권도형 | C114: 토목구조 | D114: 분야참여기술인 | E114: 79.05.08 | F114: ㈜동서엔지니어링 | H114: 24.10.29. ~ 26.05.21. | I114: 인천항 내항 1·8부두 재개발사업 기본 및 실시설계 설계단계 건설사업관리(VE포함) 용역
B115: 김대길 | C115: 토질지질 | D115: 분야책임기술인 | E115: 71.05.08 | F115: ㈜동서엔지니어링 | H115: 24.10.29. ~ 26.05.21. | I115: 인천항 내항 1·8부두 재개발사업 기본 및 실시설계 설계단계 건설사업관리(VE포함) 용역
B116: 이민선 | C116: 토질지질 | D116: 분야참여기술인 | E116: 74.03.21 | F116: ㈜동서엔지니어링 | H116: 24.10.29. ~ 26.05.21. | I116: 인천항 내항 1·8부두 재개발사업 기본 및 실시설계 설계단계 건설사업관리(VE포함) 용역
B117: 이주형 | C117: 토질지질 | D117: 분야참여기술인 | E117: 75.07.17 | F117: ㈜동서엔지니어링 | H117: 24.10.29. ~ 26.05.21. | I117: 인천항 내항 1·8부두 재개발사업 기본 및 실시설계 설계단계 건설사업관리(VE포함) 용역
B118: 반성호 | C118: 토질지질 | D118: 분야참여기술인 | E118: 84.11.13 | F118: ㈜동서엔지니어링 | H118: 24.10.29. ~ 26.05.21. | I118: 인천항 내항 1·8부두 재개발사업 기본 및 실시설계 설계단계 건설사업관리(VE포함) 용역
B119: 황현유 | C119: VE | D119: 분야책임기술인 | E119: 73.03.10 | F119: ㈜동서엔지니어링 | H119: 24.10.29. ~ 26.05.21. | I119: 인천항 내항 1·8부두 재개발사업 기본 및 실시설계 설계단계 건설사업관리(VE포함) 용역
A120: 2025년 국제여객부두 고압 육상전원공급시설(AMP) 관리운영 용역 | B120: 강병중 | C120: 전기 | D120: 책임기술자 | E120: 59.03.05. | F120: ㈜에이엠피코 | G120: 항만시설실 김혜성 대리 032-890-8196 | H120: 2024.02.13. ~ 2025.12.31. | I120: 2024년 국제여객부두 고압 육상전원공급시설(AMP) 관리운영 용역
B121: 정무섭 | C121: 전기 | D121: 참여기술자 | E121: 51.12.22. | H121: 2024.02.13. ~ 2025.12.31. | I121: 2024년 국제여객부두 고압 육상전원공급시설(AMP) 관리운영 용역
B122: 박인범 | C122: 전기 | D122: 참여기술자 | E122: 85.09.02. | H122: 2024.02.13. ~ 2025.12.31. | I122: 2024년 국제여객부두 고압 육상전원공급시설(AMP) 관리운영 용역
B123: 이정학 | C123: 전기 | D123: 참여기술자 | E123: 64.06.25. | H123: 2024.02.13. ~ 2025.12.31. | I123: 2024년 국제여객부두 고압 육상전원공급시설(AMP) 관리운영 용역
A124: 2025년 인천항 교통안전시설 및 전력설비 CCTV 유지관리용역 | B124: 김준연 | C124: 정보통신 | D124: 책임기술자 | E124: 72.10.20. | F124: 뉴인테크㈜ | G124: 항만시설실 장혜주 사원 032-890-8198 | H124: 2025.01.01 ~ 2025.12.31. | I124: 25년 인천항 교통안전시설 및 전력설비 CCTV 유지관리용역
B125: 정종우 | C125: 정보통신 | D125: 참여기술자 | E125: 72.08.11. | H125: 2025.01.01 ~ 2025.12.31. | I125: 25년 인천항 교통안전시설 및 전력설비 CCTV 유지관리용역
B126: 서영석 | C126: 정보통신 | D126: 참여기술자 | E126: 66.08.02. | H126: 2025.01.01 ~ 2025.12.31. | I126: 25년 인천항 교통안전시설 및 전력설비 CCTV 유지관리용역
B127: 백현진 | C127: 정보통신 | D127: 참여기술자 | E127: 83.11.18. | H127: 2025.01.01 ~ 2025.12.31. | I127: 25년 인천항 교통안전시설 및 전력설비 CCTV 유지관리용역
A128: 2025년 인천항 태양광발전소 및 에너지저장장치(ESS) 전기안전관리용역 | B128: 이상경 | C128: 전기 | D128: 책임기술자 | E128: 61.01.17. | F128: 플러스전기 주식회사 | G128: 항만시설실 임승민 대리 032-890-18195 | H128: 2025.01.01. ~ 2025.12.31. | I128: 25년 인천항 태양광발전소 및 에너지저장장치(ESS) 전기안전관리용역
B129: 양정모 | C129: 전기 | D129: 참여기술자 | E129: 53.11.22 | H129: 2025.01.01. ~ 2025.12.31. | I129: 25년 인천항 태양광발전소 및 에너지저장장치(ESS) 전기안전관리용역
B130: 임종대 | C130: 전기 | D130: 참여기술자 | E130: 59.03.05. | H130: 2025.01.01. ~ 2025.12.31. | I130: 25년 인천항 태양광발전소 및 에너지저장장치(ESS) 전기안전관리용역
B131: 염준태 | C131: 전기 | D131: 참여기술자 | E131: 61.02.26. | H131: 2025.01.01. ~ 2025.12.31. | I131: 25년 인천항 태양광발전소 및 에너지저장장치(ESS) 전기안전관리용역
A132: 2025년 인천항 북항배후단지 오수처리시설 유지관리용역 | B132: 김영태 | C132: 환경 | D132: 참여기술자 | E132: 63.10.13. | F132: ㈜한길자연환경 | G132: 항만시설실 김성준 주임 032-890-8189 | H132: 2025.01.01. ~ 2025.12.30. | I132: 2025년 인천항 북항배후단지 오수처리시설 유지관리용역
A133: 2025년 인천항 태양광발전소 및 에너지저장장치(ESS) 전기안전관리용역 | B133: 이상경 | C133: 전기 | D133: 책임기술자 | E133: 61.01.17. | F133: 플러스전기 주식회사 | G133: 친환경·기술개발실 김혜성 대리 032-890-8176 | H133: 2025.01.01. ~ 2025.12.31. | I133: 25년 인천항 태양광발전소 및 에너지저장장치(ESS) 전기안전관리용역
B134: 오정환 | C134: 전기 | D134: 참여기술자 | E134: 56.07.20. | H134: 2025.03.01. ~ 2025.12.31. | I134: 25년 인천항 태양광발전소 및 에너지저장장치(ESS) 전기안전관리용역
B135: 임종대 | C135: 전기 | D135: 참여기술자 | E135: 59.03.05. | H135: 2025.01.01. ~ 2025.12.31. | I135: 25년 인천항 태양광발전소 및 에너지저장장치(ESS) 전기안전관리용역
...

Sheet 한글 파일 서식
A4: 사업명 | B4: 용역기간 | C4: 용역사(지분율) | E4: 성명 | F4: 분야별 | G4: 생년월일 | H4: 참여기간
A5: 경인 아라뱃길 부속사업 사후환경영향조사용역(운영시) | B5: 18.03.26. ~ 23.03.24. | C5: (주)수성엔지니어링 (42%) | D5: 811 | E5: 최경돈 | F5: 총괄책임평가자 (수질관리) | G5: 55.10.11. | H5: 21.05.01. ~ 현재
B6: 18.03.26. ~ 23.03.24. | C6: (주)수성엔지니어링 (42%) | D6: 811 | E6: 허민구 | F6: 분야별 책임평가자 (항만 및 해양) | G6: 69.04.10. | H6: 18.03.26. ~ 현재
B7: 18.03.26. ~ 23.03.24. | C7: (주)엔탑엔지니어링 (20%) | D7: 811 | E7: 김진홍 | F7: 분야별 책임평가자 (폐기물처리) | G7: 65.01.10. | H7: 18.03.26. ~ 현재
B8: 18.03.26. ~ 23.03.24. | C8: (주)서영엔지니어링 (38%) | D8: 811 | E8: 이윤오 | F8: 참여평가자 (해양) | G8: 38.09.27. | H8: 19.08.16. ~ 현재
B9: 18.03.26. ~ 23.03.24. | C9: (주)서영엔지니어링 (38%) | D9: 811 | E9: 구명서 | F9: 참여평가자 (수질관리) | G9: 60.08.29. | H9: 22.05.01. ~ 현재
B10: 18.03.26. ~ 23.03.24. | C10: (주)수성엔지니어링 (42%) | D10: 811 | E10: 김재석 | F10: 참여평가자 (수질관리) | G10: 57.04.12. | H10: 21.01.01. ~ 현재
B11: 18.03.26. ~ 23.03.24. | C11: (주)수성엔지니어링 (42%) | D11: 811 | E11: 김동일 | F11: 참여평가자 (폐기물처리) | G11: 68.03.05. | H11: 21.01.01. ~ 현재
B12: 18.03.26. ~ 23.03.24. | C12: (주)수성엔지니어링 (42%) | D12: 811 | E12: 강 헌 | F12: 참여평가자 (항만 및 해양) | G12: 54.03.04. | H12: 22.01.01. ~ 현재
B13: 18.03.26. ~ 23.03.24. | C13: (주)수성엔지니어링 (42%) | D13: 811 | E13: 임대중 | F13: 참여평가자 (수질관리) | G13: 88.06.21. | H13: 21.01.01. ~ 현재
B14: 18.03.26. ~ 23.03.24. | C14: (주)수성엔지니어링 (42%) | D14: 811 | E14: 최진용 | F14: 참여평가자 (대기관리) | G14: 85.05.05. | H14: 22.01.01. ~ 현재
B15: 18.03.26. ~ 23.03.24. | C15: (주)수성엔지니어링 (42%) | D15: 811 | E15: 김화섭 | F15: 참여평가자 (수질관리) | G15: 76.09.03. | H15: 22.11.14. ~ 현재
B16: 18.03.26. ~ 23.03.24. | C16: (주)수성엔지니어링 (42%) | D16: 811 | E16: 백민화 | F16: 참여평가자 (소음진동) | G16: 93.04.23. | H16: 22.01.01. ~ 현재
B17: 18.03.26. ~ 23.03.24. | C17: (주)수성엔지니어링 (42%) | D17: 811 | E17: 우지혜 | F17: 참여평가자 (수질관리) | G17: 92.07.15. | H17: 21.01.01. ~ 현재
... B31: 18.03.26. ~ 23.03.24. | C31: (주)엔탑엔지니어링 (20%) | D31: 811 | E31: 박은정 | F31: 참여평가자 (소음진동) | G31: 91.10.08. | H31: 21.03.25. ~ 현재
A32: 인천항 국제여객부두 건설사업 통합 사후환경영향조사용역(운영시) | B32: 19.04.25. ~ 23.04.30. | C32: (주)수성엔지니어링 (50%) | D32: 1748 | E32: 최경돈 | F32: 총괄책임평가자 (수질관리) | G32: 55.10.11. | H32: 21.05.01. ~ 현재
B33: 19.04.25. ~ 23.04.30. | C33: (주)수성엔지니어링 (50%) | D33: 1748 | E33: 허민구 | F33: 분야별 책임평가자 (항만및해양) | G33: 69.04.10. | H33: 19.04.25. ~ 현재
B34: 19.04.25. ~ 23.04.30. | C34: (주)혜인이엔씨 (40%) | D34: 1748 | E34: 김진복 | F34: 분야별 책임평가자 (소음진동) | G34: 76.11.20. | H34: 19.04.25. ~ 현재
B35: 19.04.25. ~ 23.04.30. | C35: (주)혜인이엔씨 (40%) | D35: 1748 | E35: 안정희 | F35: 참여평가자 (폐기물처리) | G35: 42.07.25. | H35: 19.04.25. ~ 현재
B36: 19.04.25. ~ 23.04.30. | C36: (주)수성엔지니어링 (50%) | D36: 1748 | E36: 김동일 | F36: 참여평가자 (대기관리) | G36: 68.03.05. | H36: 21.01.01. ~ 현재
B37: 19.04.25. ~ 23.04.30. | C37: (주)수성엔지니어링 (50%) | D37: 1748 | E37: 강 헌 | F37: 참여평가자 (항만및해양) | G37: 54.03.04. | H37: 22.01.01. ~ 현재
B38: 19.04.25. ~ 23.04.30. | C38: (주)수성엔지니어링 (50%) | D38: 1748 | E38: 최진용 | F38: 참여평가자 (대기관리) | G38: 85.05.05. | H38: 22.01.01~ ~ 현재
B39: 19.04.25. ~ 23.04.30. | C39: (주)수성엔지니어링 (50%) | D39: 1748 | E39: 조지행 | F39: 참여평가자 (수질관리) | G39: 80.10.25. | H39: 22.01.01~ ~ 현재
B40: 19.04.25. ~ 23.04.30. | C40: (주)수성엔지니어링 (50%) | D40: 1748 | E40: 김휘래 | F40: 참여평가자 (자연환경) | G40: 96.02.23. | H40: 22.11.14. ~ 현재
B41: 19.04.25. ~ 23.04.30. | C41: (주)수성엔지니어링 (50%) | D41: 1748 | E41: 조효연 | F41: 참여평가자 (대기관리) | G41: 94.05.05. | H41: 22.07.12. ~ 현재
B42: 19.04.25. ~ 23.04.30. | C42: (주)수성엔지니어링 (50%) | D42: 1748 | E42: 임대중 | F42: 참여평가자 (수질관리) | G42: 88.06.21. | H42: 21.01.01. ~ 현재
B43: 19.04.25. ~ 23.04.30. | C43: (주)수성엔지니어링 (50%) | D43: 1748 | E43: 이윤원 | F43: 참여평가자 (수질관리) | G43: 69.09.20. | H43: 22.07.01. ~ 현재
B44: 19.04.25. ~ 23.04.30. | C44: (주)수성엔지니어링 (50%) | D44: 1748 | E44: 정소혜 | F44: 참여평가자 (자연환경) | G44: 93.11.28. | H44: 21.01.01. ~ 현재
... B59: 19.04.25. ~ 23.04.30. | C59: (주)혜인이엔씨 (40%) | D59: 1748 | E59: 김성아 | F59: 참여평가자 (대기환경) | G59: 97.03.08. | H59: 22.11.01. ~ 현재
A60: 인천북항(북측) 배후단지 조성사업 사후환경영향조사용역 | B60: 18.10.02 ~ 23.06.30 | C60: (주)도화엔지니어링 (65%) | D60: 467 | E60: 박순달 | F60: 총괄 책임평가자 (환경분야별 ) | G60: 52.01.13. | H60: 18.10.02. ~ 현재
B61: 18.10.02 ~ 23.06.30 | C61: (주)도화엔지니어링 (65%) | D61: 467 | E61: 이윤한 | F61: 분야별 책임평가자 (항만 및 해안) | G61: 50.10.15. | H61: 19.05.08. ~ 현재
B62: 18.10.02 ~ 23.06.30 | C62: (주)도화엔지니어링 (65%) | D62: 467 | E62: 박관순 | F62: 분야별 책임평가자 (환경분야별 ) | G62: 47.02.24. | H62: 18.10.02 ~ 현재
B63: 18.10.02 ~ 23.06.30 | C63: (주)동아기술공사 (15%) | D63: 467 | E63: 김병욱 | F63: 참여평가자 (환경분야별 ) | G63: 51.07.29. | H63: 22.03.17. ~ 현재
B64: 18.10.02 ~ 23.06.30 | C64: (주)건일 (20%) | D64: 467 | E64: 선웅배 | F64: 참여평가자 (환경분야별 ) | G64: 80.03.15. | H64: 22.05.01. ~ 현재
B65: 18.10.02 ~ 23.06.30 | C65: (주)도화엔지니어링 (65%) | D65: 467 | E65: 조기창 | F65: 참여평가자 (환경분야별 ) | G65: 57.01.11. | H65: 18.10.02. ~ 현재
B66: 18.10.02 ~ 23.06.30 | C66: (주)도화엔지니어링 (65%) | D66: 467 | E66: 서병철 | F66: 참여평가자 (환경분야별 ) | G66: 74.12.11. | H66: 22.03.03. ~ 현재
B67: 18.10.02 ~ 23.06.30 | C67: (주)도화엔지니어링 (65%) | D67: 467 | E67: 박병원 | F67: 참여평가자 (환경분야별 ) | G67: 57.10.05. | H67: 18.10.02. ~ 현재
B68: 18.10.02 ~ 23.06.30 | C68: (주)도화엔지니어링 (65%) | D68: 467 | E68: 김상진 | F68: 참여평가자 (환경분야별 ) | G68: 78.05.10. | H68: 22.07.15. ~ 현재
B69: 18.10.02 ~ 23.06.30 | C69: (주)도화엔지니어링 (65%) | D69: 467 | E69: 서창훈 | F69: 참여평가자 (환경분야별 ) | G69: 87.11.18. | H69: 19.06.03. ~ 현재
B70: 18.10.02 ~ 23.06.30 | C70: (주)도화엔지니어링 (65%) | D70: 467 | E70: 이경원 | F70: 참여평가자 (환경분야별 ) | G70: 84.02.15. | H70: 21.01.14. ~ 현재
B71: 18.10.02 ~ 23.06.30 | C71: (주)도화엔지니어링 (65%) | D71: 467 | E71: 박수정 | F71: 참여평가자 (환경분야별 ) | G71: 73.03.02. | H71: 19.06.03. ~ 현재
B72: 18.10.02 ~ 23.06.30 | C72: (주)도화엔지니어링 (65%) | D72: 467 | E72: 김우철 | F72: 참여평가자 (환경분야별 ) | G72: 82.08.18. | H72: 21.01.14. ~ 현재
... B78: 18.10.02 ~ 23.06.30 | C78: (주)동아기술공사 (15%) | D78: 467 | E78: 강미현 | F78: 참여평가자 (환경분야별 ) | G78: 88.11.03. | H78: 23.01.01. ~ 현재
A79: 연안항 재해방지시설 기본설계 용역 | B79: 22.03.10. ~ 23.02.23 | C79: (주)유신 (70%) | D79: 465 | E79: 김국진 | F79: 사업책임기술인 (항만및해안) | G79: 68.08.02. | H79: 22.03.10. ~ 현재
B80: 22.02.25. ~ 23.02.23 | C80: (주)유신 (70%) | D80: 465 | E80: 홍륜 | F80: 책임기술인 (토질·지질) | G80: 48.12.18. | H80: 22.02.25. ~ 현재
B81: 22.02.25. ~ 23.02.23 | C81: (주)유신 (70%) | D81: 465 | E81: 윤성준 | F81: 책임기술인 (수자원) | G81: 81.03.22. | H81: 22.02.25. ~ 현재
B82: 22.02.25. ~ 23.02.23 | C82: (주)유신 (70%) | D82: 465 | E82: 김지원 | F82: 참여기술인 (항만및해안) | G82: 78.02.23. | H82: 22.02.25. ~ 현재
B83: 22.02.25. ~ 23.02.23 | C83: (주)유신 (70%) | D83: 465 | E83: 정성헌 | F83: 참여기술인 (상하수도) | G83: 76.12.12. | H83: 22.02.25. ~ 현재
B84: 22.02.25. ~ 23.02.23 | C84: (주)유신 (70%) | D84: 465 | E84: 김용환 | F84: 실무기술인 (항만및해안) | G84: 88.01.14. | H84: 22.02.25. ~ 현재
B85: 22.02.25. ~ 23.02.23 | C85: (주)유신 (70%) | D85: 465 | E85: 김영모 | F85: 실무기술인 (수자원) | G85: 78.02.04. | H85: 22.02.25. ~ 현재
B86: 22.02.25. ~ 23.02.23 | C86: (주)유신 (70%) | D86: 465 | E86: 고덕형 | F86: 실무기술인 (항만및해안) | G86: 63.01.27. | H86: 22.02.25. ~ 현재
B87: 22.02.25. ~ 23.02.23 | C87: (주)유신 (70%) | D87: 465 | E87: 정민영 | F87: 실무기술인 (항만및해안) | G87: 53.01.03. | H87: 22.02.25. ~ 현재
B88: 22.02.25. ~ 23.02.23 | C88: (주)유신 (70%) | D88: 465 | E88: 손재호 | F88: 실무기술인 (토질·지질) | G88: 91.03.11. | H88: 22.02.25. ~ 현재
B89: 22.02.25. ~ 23.02.23 | C89: (주)유신 (70%) | D89: 465 | E89: 이종섭 | F89: 실무기술인 (토질·지질) | G89: 74.09.17. | H89: 22.02.25. ~ 현재
B90: 22.02.25. ~ 23.02.23 | C90: (주)유신 (70%) | D90: 465 | E90: 박찬희 | F90: 실무기술인 (상하수도) | G90: 94.02.10. | H90: 22.02.25. ~ 현재
B91: 22.02.25. ~ 23.02.23 | C91: (주)유신 (70%) | D91: 465 | E91: 강현우 | F91: 실무기술인 (수자원) | G91: 90.06.15. | H91: 22.02.25. ~ 현재
... B97: 22.02.25. ~ 23.02.23 | C97: 일진인터내셔날(주) (30%) | D97: 465 | E97: 이종권 | F97: 실무기술인 (토질·지질) | G97: 81.08.29. | H97: 22.02.25. ~ 현재
A98: 인천신항 1-2단계 컨테이너부두 상부기능시설공사 기본 및 실시설계용역 | B98: 22.11.30. ~ 24.05.22. | C98: (주)세광종합기술단 (45%) | D98: 3602 | E98: 조충환 | F98: 사업책임기술자 (항만 및 해안) | G98: 65.02.25. | H98: 22.11.30. ~ 현재
B99: 22.11.30. ~ 24.05.22. | C99: (주)연안항만엔지니어링 (20%) | D99: 3602 | E99: 정수호 | F99: 분야별 책임기술인 (항만 및 해안) | G99: 74.06.08. | H99: 22.11.30. ~ 현재
B100: 22.11.30. ~ 24.05.22. | C100: (주)한국항만기술단 (25%) | D100: 3602 | E100: 김경모 | F100: 분야별 책임기술인 (토질 및 지질) | G100: 71.10.17. | H100: 22.11.30. ~ 현재
B101: 22.11.30. ~ 24.05.22. | C101: (주)세광종합기술단 (45%) | D101: 3602 | E101: 신동용 | F101: 분야별 책임기술인 (토목구조) | G101: 72.09.26. | H101: 22.11.30. ~ 현재
B102: 22.11.30. ~ 24.05.22. | C102: (주)세광종합기술단 (45%) | D102: 3602 | E102: 황선원 | F102: 분야별 책임기술인 (토목시공) | G102: 57.05.07. | H102: 22.11.30. ~ 현재
B103: 22.11.30. ~ 24.05.22. | C103: (주)세광종합기술단 (45%) | D103: 3602 | E103: 임장혁 | F103: 참여기술인 (항만 및 해안) | G103: 76.01.15. | H103: 22.11.30. ~ 현재
B104: 22.11.30. ~ 24.05.22. | C104: (주)세광종합기술단 (45%) | D104: 3602 | E104: 이재석 | F104: 참여기술인 (항만 및 해안) | G104: 73.08.11. | H104: 22.11.30. ~ 현재
B105: 22.11.30. ~ 24.05.22. | C105: (주)세광종합기술단 (45%) | D105: 3602 | E105: 박인찬 | F105: 참여기술인 (항만 및 해안) | G105: 79.07.23. | H105: 22.11.30. ~ 현재
B106: 22.11.30. ~ 24.05.22. | C106: (주)세광종합기술단 (45%) | D106: 3602 | E106: 최영태 | F106: 참여기술인 (항만 및 해안) | G106: 94.02.12. | H106: 22.11.30. ~ 현재
B107: 22.11.30. ~ 24.05.22. | C107: (주)연안항만엔지니어링 (20%) | D107: 3602 | E107: 황태규 | F107: 참여기술인 (항만 및 해안) | G107: 96.11.22. | H107: 22.11.30. ~ 현재
B108: 22.11.30. ~ 24.05.22. | C108: 일진인터네셔날(주) (15%) | D108: 3602 | E108: 신윤희 | F108: 참여기술인 (항만 및 해안) | G108: 95.06.27. | H108: 22.11.30. ~ 현재
B109: 22.11.30. ~ 24.05.22. | C109: (주)세광종합기술단 (45%) | D109: 3602 | E109: 이상훈 | F109: 참여기술인 (토질 및 지질) | G109: 72.01.16. | H109: 22.11.30. ~ 현재
B110: 22.11.30. ~ 24.05.22. | C110: (주)세광종합기술단 (45%) | D110: 3602 | E110: 공범준 | F110: 참여기술인 (토질 및 지질) | G110: 94.02.12. | H110: 22.11.30. ~ 현재
... B128: 22.11.30. ~ 24.05.22. | C128: (주)인우이엔씨 (분담) | D128: 3602 | E128: 권영원 | F128: 참여기술인 (정보통신) | G128: 92.11.28. | H128: 22.11.30. ~ 현재
A129: 연안항 물양장 매립 및 부지조성공사 기본 및 실시설계용역 | B129: 20.05.15. ~ 용역중지중 | C129: 주식회사 건화 (100%) | D129: 847 | E129: 박양호 | F129: 사업책임기술인 (사업총괄(항만 및 해안)) | G129: 69.09.19. | H129: 20.05.15. ~ 현재
B130: 20.05.15. ~ 용역중지중 | C130: 주식회사 건화 (100%) | D130: 847 | E130: 유병대 | F130: 분야별 책임기술인 (항만 및 해안) | G130: 76.02.07. | H130: 20.05.15. ~ 용역중지중
B131: 20.05.15. ~ 용역중지중 | C131: 주식회사 건화 (100%) | D131: 847 | E131: 정종진 | F131: 실무기술인 (항만 및 해안) | G131: 49.11.07. | H131: 20.05.15. ~ 용역중지중
B132: 20.05.15. ~ 용역중지중 | C132: 주식회사 건화 (100%) | D132: 847 | E132: 조종환 | F132: 실무기술인 (항만 및 해안) | G132: 54.07.08. | H132: 20.05.15. ~ 용역중지중
B133: 20.05.15. ~ 용역중지중 | C133: 주식회사 건화 (100%) | D133: 847 | E133: 김태식 | F133: 실무기술인 (항만 및 해안) | G133: 76.06.12. | H133: 20.05.15. ~ 용역중지중
B134: 20.05.15. ~ 용역중지중 | C134: 주식회사 건화 (100%) | D134: 847 | E134: 최동석 | F134: 실무기술인 (항만 및 해안) | G134: 80.06.05. | H134: 20.05.15. ~ 용역중지중
B135: 20.05.15. ~ 용역중지중 | C135: 주식회사 건화 (100%) | D135: 847 | E135: 임송균 | F135: 실무기술인 (항만 및 해안) | G135: 81.08.22. | H135: 20.05.15. ~ 용역중지중
B136: 20.05.15. ~ 용역중지중 | C136: 주식회사 건화 (100%) | D136: 847 | E136: 이경환 | F136: 분야별 참여기술인 (항만 및 해안) | G136: 83.04.03. | H136: 20.05.15. ~ 용역중지중
B137: 20.05.15. ~ 용역중지중 | C137: 주식회사 건화 (100%) | D137: 847 | E137: 김승연 | F137: 실무기술인 (항만 및 해안) | G137: 85.01.20. | H137: 20.05.15. ~ 용역중지중
B138: 20.05.15. ~ 용역중지중 | C138: 주식회사 건화 (100%) | D138: 847 | E138: 안창현 | F138: 실무기술인 (항만 및 해안) | G138: 85.02.22. | H138: 20.05.15. ~ 용역중지중
B139: 20.05.15. ~ 용역중지중 | C139: 주식회사 건화 (100%) | D139: 847 | E139: 임성묵 | F139: 실무기술인 (항만 및 해안) | G139: 89.02.20. | H139: 20.05.15. ~ 용역중지중
B140: 20.05.15. ~ 용역중지중 | C140: 주식회사 건화 (100%) | D140: 847 | E140: 최효범 | F140: 분야별 책임기술인 (토질 지질) | G140: 60.10.10. | H140: 20.05.15. ~ 용역중지중
B141: 20.05.15. ~ 용역중지중 | C141: 주식회사 건화 (100%) | D141: 847 | E141: 이준환 | F141: 실무기술인 (토질 지질) | G141: 75.02.04. | H141: 20.05.15. ~ 용역중지중
... B149: 20.05.15. ~ 용역중지중 | C149: 주식회사 테크피아 (100%) | D149: 847 | E149: 한기태 | F149: 참여기술자 (지형측량) | G149: 52.12.21. | H149: 20.05.15. ~ 용역중지중
A150: `인천신항 1-2단계 컨테이너부두 하부공 축조공사 건설사업관리용역 | B150: 21.05.01. ~ 25.05.31. | C150: (주)세광종합기술단 (40%) | D150: 8301 | E150: 송운용 | F150: 사업책임기술인 (항만 및 해안분야별 ) | G150: 61.11.20. | H150: 21.05.01. ~ 현재
B151: 21.07.01. ~ 25.05.31. | C151: (주)아라기술 (10%) | D151: 8301 | E151: 김윤수 | F151: 분야별 기술인 (항만 및 해안분야별 ) | G151: 59.02.02. | H151: 21.07.01. ~ 현재
B152: 21.07.01. ~ 25.05.31. | C152: (주)아라기술 (10%) | D152: 8301 | E152: 임영민 | F152: 분야별 기술인 (항만 및 해안분야별 ) | G152: 64.11.16. | H152: 21.07.01. ~ 현재
B153: 21.05.01. ~ 25.05.31. | C153: (주)세일종합기술공사 (15%) | D153: 8301 | E153: 조항찬 | F153: 분야별 기술인 (항만 및 해안분야별 ) | G153: 68.11.20. | H153: 21.07.01. ~ 현재
B154: 21.07.01. ~ 25.05.31. | C154: (주)세광종합기술단 (40%) | D154: 8301 | E154: 임원록 | F154: 분야별 기술인 (항만 및 해안분야별 ) | G154: 71.07.27. | H154: 21.07.01. ~ 현재
B155: 21.07.01. ~ 25.05.31. | C155: (주)세광종합기술단 (40%) | D155: 8301 | E155: 이강화 | F155: 분야별 기술인 (항만 및 해안분야별 ) | G155: 74.08.10. | H155: 21.05.01. ~ 현재
B156: 21.05.01. ~ 25.05.31. | C156: (주)동명기술공단종합건축사사무소 (10%) | D156: 8301 | E156: 이찬수 | F156: 분야별 기술인 (항만 및 해안분야별 ) | G156: 74.12.10. | H156: 21.07.01. ~ 현재
B157: 21.07.01. ~ 25.05.31. | C157: (주)세광종합기술단 (40%) | D157: 8301 | E157: 이학재 | F157: 분야별 기술인 (항만 및 해안분야별 ) | G157: 76.01.10. | H157: 21.07.01. ~ 현재
B158: 21.07.01. ~ 25.05.31. | C158: (주)아라기술 (10%) | D158: 8301 | E158: 조형규 | F158: 분야별 기술인 (토목) | G158: 56.10.28. | H158: 21.11.01. ~ 현재
B159: 21.05.01. ~ 25.05.31. | C159: (주)아라기술 (10%) | D159: 8301 | E159: 조흥구 | F159: 분야별 기술인 (항만 및 해안분야별 ) | G159: 60.01.10. | H159: 22.05.09. ~ 현재
B160: 21.07.01. ~ 25.05.31. | C160: (주)세일종합기술공사 (15%) | D160: 8301 | E160: 문필연 | F160: 분야별 기술인 (항만 및 해안분야별 ) | G160: 55.06.10. | H160: 22.12.01. ~ 현재
B161: 21.07.01. ~ 25.05.31. | C161: 일진인터내셔날(주) (10) | D161: 8301 | E161: 김헌수 | F161: 분야별 기술인 (항만 및 해안분야별 ) | G161: 59.02.24. | H161: 22.12.01. ~ 현재
B162: 21.05.01. ~ 25.05.31. | C162: (주)동명기술공단종합건축사사무소 (10%) | D162: 8301 | E162: 이장배 | F162: 기술지원기술인 (항만 및 해안) | G162: 59.02.12. | H162: 21.05.01. ~ 현재
... B165: 21.05.01. ~ 25.05.31. | C165: (주)세광종합기술단 (40%) | D165: 8301 | E165: 황선원 | F165: 기술지원기술인 (토목시공) | G165: 57.05.07. | H165: 21.05.01. ~ 현재
A166: 인천신항 건설사업(1단계), 인천신항 컨테이너부두(1-2단계) 개발사업 통합 사후환경영향조사용역 | B166: 21.08.24. ~ 25.05.24. | C166: (주)세광종합기술단 (50%) | D166: 2288 | E166: 정창용 | F166: 총괄책임평가자 (환경분야별 ) | G166: 69.02.25. | H166: 21.08.24. ~ 현재
...

Sheet 중복도 조회
C6: 중복도 조회
C8: 정보입력 | F8: 우리공사 진행용역 리스트 내 | M8: 지분은 직접가서 보자.
C9: 이름 | D9: 생년월일 | E9: 회사 | F9: 이름 | G9: 생년월일 | H9: 사업명 | I9: 분야 | J9: 참여기간 | K9: 구분 | L9: 회사 | M9: 지분
F10: =VLOOKUP($C10,기술자현황!$B$4:$I$119,1,FALSE) -> #N/A | G10: =VLOOKUP($C10,기술자현황!$B$4:$I$119,4,FALSE) -> #N/A | H10: =VLOOKUP($C10,기술자현황!$B$4:$I$119,8,FALSE) -> #N/A | I10: =VLOOKUP($C10,기술자현황!$B$4:$I$119,2,FALSE) -> #N/A | J10: =VLOOKUP($C10,기술자현황!$B$4:$I$119,7,FALSE) -> #N/A | K10: =VLOOKUP($C10,기술자현황!$B$4:$I$119,3,FALSE) -> #N/A | L10: =VLOOKUP($C10,기술자현황!$B$4:$I$119,5,FALSE) -> #N/A | M10: =VLOOKUP($H10,사업현황!$A$4:$K$140,8,FALSE) -> #N/A
F11: =VLOOKUP($C11,기술자현황!$B$4:$I$119,1,FALSE) -> #N/A | G11: =VLOOKUP($C11,기술자현황!$B$4:$I$119,4,FALSE) -> #N/A | H11: =VLOOKUP($C11,기술자현황!$B$4:$I$119,8,FALSE) -> #N/A | I11: =VLOOKUP($C11,기술자현황!$B$4:$I$119,2,FALSE) -> #N/A | J11: =VLOOKUP($C11,기술자현황!$B$4:$I$119,7,FALSE) -> #N/A | K11: =VLOOKUP($C11,기술자현황!$B$4:$I$119,3,FALSE) -> #N/A | L11: =VLOOKUP($C11,기술자현황!$B$4:$I$119,5,FALSE) -> #N/A | M11: =VLOOKUP($H11,사업현황!$A$4:$K$140,8,FALSE) -> #N/A
F12: =VLOOKUP($C12,기술자현황!$B$4:$I$119,1,FALSE) -> #N/A | G12: =VLOOKUP($C12,기술자현황!$B$4:$I$119,4,FALSE) -> #N/A | H12: =VLOOKUP($C12,기술자현황!$B$4:$I$119,8,FALSE) -> #N/A | I12: =VLOOKUP($C12,기술자현황!$B$4:$I$119,2,FALSE) -> #N/A | J12: =VLOOKUP($C12,기술자현황!$B$4:$I$119,7,FALSE) -> #N/A | K12: =VLOOKUP($C12,기술자현황!$B$4:$I$119,3,FALSE) -> #N/A | L12: =VLOOKUP($C12,기술자현황!$B$4:$I$119,5,FALSE) -> #N/A | M12: =VLOOKUP($H12,사업현황!$A$4:$K$140,8,FALSE) -> #N/A
F13: =VLOOKUP($C13,기술자현황!$B$4:$I$119,1,FALSE) -> #N/A | G13: =VLOOKUP($C13,기술자현황!$B$4:$I$119,4,FALSE) -> #N/A | H13: =VLOOKUP($C13,기술자현황!$B$4:$I$119,8,FALSE) -> #N/A | I13: =VLOOKUP($C13,기술자현황!$B$4:$I$119,2,FALSE) -> #N/A | J13: =VLOOKUP($C13,기술자현황!$B$4:$I$119,7,FALSE) -> #N/A | K13: =VLOOKUP($C13,기술자현황!$B$4:$I$119,3,FALSE) -> #N/A | L13: =VLOOKUP($C13,기술자현황!$B$4:$I$119,5,FALSE) -> #N/A | M13: =VLOOKUP($H13,사업현황!$A$4:$K$140,8,FALSE) -> #N/A
F14: =VLOOKUP($C14,기술자현황!$B$4:$I$119,1,FALSE) -> #N/A | G14: =VLOOKUP($C14,기술자현황!$B$4:$I$119,4,FALSE) -> #N/A | H14: =VLOOKUP($C14,기술자현황!$B$4:$I$119,8,FALSE) -> #N/A | I14: =VLOOKUP($C14,기술자현황!$B$4:$I$119,2,FALSE) -> #N/A | J14: =VLOOKUP($C14,기술자현황!$B$4:$I$119,7,FALSE) -> #N/A | K14: =VLOOKUP($C14,기술자현황!$B$4:$I$119,3,FALSE) -> #N/A | L14: =VLOOKUP($C14,기술자현황!$B$4:$I$119,5,FALSE) -> #N/A | M14: =VLOOKUP($H14,사업현황!$A$4:$K$140,8,FALSE) -> #N/A
F15: =VLOOKUP($C15,기술자현황!$B$4:$I$119,1,FALSE) -> #N/A | G15: =VLOOKUP($C15,기술자현황!$B$4:$I$119,4,FALSE) -> #N/A | H15: =VLOOKUP($C15,기술자현황!$B$4:$I$119,8,FALSE) -> #N/A | I15: =VLOOKUP($C15,기술자현황!$B$4:$I$119,2,FALSE) -> #N/A | J15: =VLOOKUP($C15,기술자현황!$B$4:$I$119,7,FALSE) -> #N/A | K15: =VLOOKUP($C15,기술자현황!$B$4:$I$119,3,FALSE) -> #N/A | L15: =VLOOKUP($C15,기술자현황!$B$4:$I$119,5,FALSE) -> #N/A | M15: =VLOOKUP($H15,사업현황!$A$4:$K$140,8,FALSE) -> #N/A
F16: =VLOOKUP($C16,기술자현황!$B$4:$I$119,1,FALSE) -> #N/A | G16: =VLOOKUP($C16,기술자현황!$B$4:$I$119,4,FALSE) -> #N/A | H16: =VLOOKUP($C16,기술자현황!$B$4:$I$119,8,FALSE) -> #N/A | I16: =VLOOKUP($C16,기술자현황!$B$4:$I$119,2,FALSE) -> #N/A | J16: =VLOOKUP($C16,기술자현황!$B$4:$I$119,7,FALSE) -> #N/A | K16: =VLOOKUP($C16,기술자현황!$B$4:$I$119,3,FALSE) -> #N/A | L16: =VLOOKUP($C16,기술자현황!$B$4:$I$119,5,FALSE) -> #N/A | M16: =VLOOKUP($H16,사업현황!$A$4:$K$140,8,FALSE) -> #N/A
F17: =VLOOKUP($C17,기술자현황!$B$4:$I$119,1,FALSE) -> #N/A | G17: =VLOOKUP($C17,기술자현황!$B$4:$I$119,4,FALSE) -> #N/A | H17: =VLOOKUP($C17,기술자현황!$B$4:$I$119,8,FALSE) -> #N/A | I17: =VLOOKUP($C17,기술자현황!$B$4:$I$119,2,FALSE) -> #N/A | J17: =VLOOKUP($C17,기술자현황!$B$4:$I$119,7,FALSE) -> #N/A | K17: =VLOOKUP($C17,기술자현황!$B$4:$I$119,3,FALSE) -> #N/A | L17: =VLOOKUP($C17,기술자현황!$B$4:$I$119,5,FALSE) -> #N/A | M17: =VLOOKUP($H17,사업현황!$A$4:$K$140,8,FALSE) -> #N/A
F18: =VLOOKUP($C18,기술자현황!$B$4:$I$119,1,FALSE) -> #N/A | G18: =VLOOKUP($C18,기술자현황!$B$4:$I$119,4,FALSE) -> #N/A | H18: =VLOOKUP($C18,기술자현황!$B$4:$I$119,8,FALSE) -> #N/A | I18: =VLOOKUP($C18,기술자현황!$B$4:$I$119,2,FALSE) -> #N/A | J18: =VLOOKUP($C18,기술자현황!$B$4:$I$119,7,FALSE) -> #N/A | K18: =VLOOKUP($C18,기술자현황!$B$4:$I$119,3,FALSE) -> #N/A | L18: =VLOOKUP($C18,기술자현황!$B$4:$I$119,5,FALSE) -> #N/A | M18: =VLOOKUP($H18,사업현황!$A$4:$K$140,8,FALSE) -> #N/A
F19: =VLOOKUP($C19,기술자현황!$B$4:$I$119,1,FALSE) -> #N/A | G19: =VLOOKUP($C19,기술자현황!$B$4:$I$119,4,FALSE) -> #N/A | H19: =VLOOKUP($C19,기술자현황!$B$4:$I$119,8,FALSE) -> #N/A | I19: =VLOOKUP($C19,기술자현황!$B$4:$I$119,2,FALSE) -> #N/A | J19: =VLOOKUP($C19,기술자현황!$B$4:$I$119,7,FALSE) -> #N/A | K19: =VLOOKUP($C19,기술자현황!$B$4:$I$119,3,FALSE) -> #N/A | L19: =VLOOKUP($C19,기술자현황!$B$4:$I$119,5,FALSE) -> #N/A | M19: =VLOOKUP($H19,사업현황!$A$4:$K$140,8,FALSE) -> #N/A
F20: =VLOOKUP($C20,기술자현황!$B$4:$I$119,1,FALSE) -> #N/A | G20: =VLOOKUP($C20,기술자현황!$B$4:$I$119,4,FALSE) -> #N/A | H20: =VLOOKUP($C20,기술자현황!$B$4:$I$119,8,FALSE) -> #N/A | I20: =VLOOKUP($C20,기술자현황!$B$4:$I$119,2,FALSE) -> #N/A | J20: =VLOOKUP($C20,기술자현황!$B$4:$I$119,7,FALSE) -> #N/A | K20: =VLOOKUP($C20,기술자현황!$B$4:$I$119,3,FALSE) -> #N/A | L20: =VLOOKUP($C20,기술자현황!$B$4:$I$119,5,FALSE) -> #N/A | M20: =VLOOKUP($H20,사업현황!$A$4:$K$140,8,FALSE) -> #N/A
F21: =VLOOKUP($C21,기술자현황!$B$4:$I$119,1,FALSE) -> #N/A | G21: =VLOOKUP($C21,기술자현황!$B$4:$I$119,4,FALSE) -> #N/A | H21: =VLOOKUP($C21,기술자현황!$B$4:$I$119,8,FALSE) -> #N/A | I21: =VLOOKUP($C21,기술자현황!$B$4:$I$119,2,FALSE) -> #N/A | J21: =VLOOKUP($C21,기술자현황!$B$4:$I$119,7,FALSE) -> #N/A | K21: =VLOOKUP($C21,기술자현황!$B$4:$I$119,3,FALSE) -> #N/A | L21: =VLOOKUP($C21,기술자현황!$B$4:$I$119,5,FALSE) -> #N/A | M21: =VLOOKUP($H21,사업현황!$A$4:$K$140,8,FALSE) -> #N/A
... F426: =VLOOKUP($C426,기술자현황!$B$4:$I$119,1,FALSE) -> #N/A | G426: =VLOOKUP($C426,기술자현황!$B$4:$I$119,4,FALSE) -> #N/A | H426: =VLOOKUP($C426,기술자현황!$B$4:$I$119,8,FALSE) -> #N/A | I426: =VLOOKUP($C426,기술자현황!$B$4:$I$119,2,FALSE) -> #N/A | J426: =VLOOKUP($C426,기술자현황!$B$4:$I$119,7,FALSE) -> #N/A | K426: =VLOOKUP($C426,기술자현황!$B$4:$I$119,3,FALSE) -> #N/A | L426: =VLOOKUP($C426,기술자현황!$B$4:$I$119,5,FALSE) -> #N/A | M426: =VLOOKUP($H426,사업현황!$A$4:$K$140,8,FALSE) -> #N/A
F427: =VLOOKUP($C427,기술자현황!$B$4:$I$206,1,FALSE) -> #N/A | G427: =VLOOKUP($C427,기술자현황!$B$4:$I$206,4,FALSE) -> #N/A | H427: =VLOOKUP($C427,기술자현황!$B$4:$I$206,8,FALSE) -> #N/A | I427: =VLOOKUP($C427,기술자현황!$B$4:$I$206,2,FALSE) -> #N/A | J427: =VLOOKUP($C427,기술자현황!$B$4:$I$206,7,FALSE) -> #N/A | K427: =VLOOKUP($C427,기술자현황!$B$4:$I$206,3,FALSE) -> #N/A | L427: =VLOOKUP($C427,기술자현황!$B$4:$I$206,5,FALSE) -> #N/A | M427: =VLOOKUP($H427,사업현황!$A$4:$K$140,8,FALSE) -> #N/A
F428: =VLOOKUP($C428,기술자현황!$B$4:$I$206,1,FALSE) -> #N/A | G428: =VLOOKUP($C428,기술자현황!$B$4:$I$206,4,FALSE) -> #N/A | H428: =VLOOKUP($C428,기술자현황!$B$4:$I$206,8,FALSE) -> #N/A | I428: =VLOOKUP($C428,기술자현황!$B$4:$I$206,2,FALSE) -> #N/A | J428: =VLOOKUP($C428,기술자현황!$B$4:$I$206,7,FALSE) -> #N/A | K428: =VLOOKUP($C428,기술자현황!$B$4:$I$206,3,FALSE) -> #N/A | L428: =VLOOKUP($C428,기술자현황!$B$4:$I$206,5,FALSE) -> #N/A | M428: =VLOOKUP($H428,사업현황!$A$4:$K$140,8,FALSE) -> #N/A
F429: =VLOOKUP($C429,기술자현황!$B$4:$I$206,1,FALSE) -> #N/A | G429: =VLOOKUP($C429,기술자현황!$B$4:$I$206,4,FALSE) -> #N/A | H429: =VLOOKUP($C429,기술자현황!$B$4:$I$206,8,FALSE) -> #N/A | I429: =VLOOKUP($C429,기술자현황!$B$4:$I$206,2,FALSE) -> #N/A | J429: =VLOOKUP($C429,기술자현황!$B$4:$I$206,7,FALSE) -> #N/A | K429: =VLOOKUP($C429,기술자현황!$B$4:$I$206,3,FALSE) -> #N/A | L429: =VLOOKUP($C429,기술자현황!$B$4:$I$206,5,FALSE) -> #N/A | M429: =VLOOKUP($H429,사업현황!$A$4:$K$140,8,FALSE) -> #N/A
F430: =VLOOKUP($C430,기술자현황!$B$4:$I$206,1,FALSE) -> #N/A | G430: =VLOOKUP($C430,기술자현황!$B$4:$I$206,4,FALSE) -> #N/A | H430: =VLOOKUP($C430,기술자현황!$B$4:$I$206,8,FALSE) -> #N/A | I430: =VLOOKUP($C430,기술자현황!$B$4:$I$206,2,FALSE) -> #N/A | J430: =VLOOKUP($C430,기술자현황!$B$4:$I$206,7,FALSE) -> #N/A | K430: =VLOOKUP($C430,기술자현황!$B$4:$I$206,3,FALSE) -> #N/A | L430: =VLOOKUP($C430,기술자현황!$B$4:$I$206,5,FALSE) -> #N/A | M430: =VLOOKUP($H430,사업현황!$A$4:$K$140,8,FALSE) -> #N/A
F431: =VLOOKUP($C431,기술자현황!$B$4:$I$206,1,FALSE) -> #N/A | G431: =VLOOKUP($C431,기술자현황!$B$4:$I$206,4,FALSE) -> #N/A | H431: =VLOOKUP($C431,기술자현황!$B$4:$I$206,8,FALSE) -> #N/A | I431: =VLOOKUP($C431,기술자현황!$B$4:$I$206,2,FALSE) -> #N/A | J431: =VLOOKUP($C431,기술자현황!$B$4:$I$206,7,FALSE) -> #N/A | K431: =VLOOKUP($C431,기술자현황!$B$4:$I$206,3,FALSE) -> #N/A | L431: =VLOOKUP($C431,기술자현황!$B$4:$I$206,5,FALSE) -> #N/A | M431: =VLOOKUP($H431,사업현황!$A$4:$K$140,8,FALSE) -> #N/A
F432: =VLOOKUP($C432,기술자현황!$B$4:$I$206,1,FALSE) -> #N/A | G432: =VLOOKUP($C432,기술자현황!$B$4:$I$206,4,FALSE) -> #N/A | H432: =VLOOKUP($C432,기술자현황!$B$4:$I$206,8,FALSE) -> #N/A | I432: =VLOOKUP($C432,기술자현황!$B$4:$I$206,2,FALSE) -> #N/A | J432: =VLOOKUP($C432,기술자현황!$B$4:$I$206,7,FALSE) -> #N/A | K432: =VLOOKUP($C432,기술자현황!$B$4:$I$206,3,FALSE) -> #N/A | L432: =VLOOKUP($C432,기술자현황!$B$4:$I$206,5,FALSE) -> #N/A | M432: =VLOOKUP($H432,사업현황!$A$4:$K$140,8,FALSE) -> #N/A
F433: =VLOOKUP($C433,기술자현황!$B$4:$I$206,1,FALSE) -> #N/A | G433: =VLOOKUP($C433,기술자현황!$B$4:$I$206,4,FALSE) -> #N/A | H433: =VLOOKUP($C433,기술자현황!$B$4:$I$206,8,FALSE) -> #N/A | I433: =VLOOKUP($C433,기술자현황!$B$4:$I$206,2,FALSE) -> #N/A | J433: =VLOOKUP($C433,기술자현황!$B$4:$I$206,7,FALSE) -> #N/A | K433: =VLOOKUP($C433,기술자현황!$B$4:$I$206,3,FALSE) -> #N/A | L433: =VLOOKUP($C433,기술자현황!$B$4:$I$206,5,FALSE) -> #N/A | M433: =VLOOKUP($H433,사업현황!$A$4:$K$140,8,FALSE) -> #N/A
F434: =VLOOKUP($C434,기술자현황!$B$4:$I$206,1,FALSE) -> #N/A | G434: =VLOOKUP($C434,기술자현황!$B$4:$I$206,4,FALSE) -> #N/A | H434: =VLOOKUP($C434,기술자현황!$B$4:$I$206,8,FALSE) -> #N/A | I434: =VLOOKUP($C434,기술자현황!$B$4:$I$206,2,FALSE) -> #N/A | J434: =VLOOKUP($C434,기술자현황!$B$4:$I$206,7,FALSE) -> #N/A | K434: =VLOOKUP($C434,기술자현황!$B$4:$I$206,3,FALSE) -> #N/A | L434: =VLOOKUP($C434,기술자현황!$B$4:$I$206,5,FALSE) -> #N/A | M434: =VLOOKUP($H434,사업현황!$A$4:$K$140,8,FALSE) -> #N/A
F435: =VLOOKUP($C435,기술자현황!$B$4:$I$206,1,FALSE) -> #N/A | G435: =VLOOKUP($C435,기술자현황!$B$4:$I$206,4,FALSE) -> #N/A | H435: =VLOOKUP($C435,기술자현황!$B$4:$I$206,8,FALSE) -> #N/A | I435: =VLOOKUP($C435,기술자현황!$B$4:$I$206,2,FALSE) -> #N/A | J435: =VLOOKUP($C435,기술자현황!$B$4:$I$206,7,FALSE) -> #N/A | K435: =VLOOKUP($C435,기술자현황!$B$4:$I$206,3,FALSE) -> #N/A | L435: =VLOOKUP($C435,기술자현황!$B$4:$I$206,5,FALSE) -> #N/A | M435: =VLOOKUP($H435,사업현황!$A$4:$K$140,8,FALSE) -> #N/A
F436: =VLOOKUP($C436,기술자현황!$B$4:$I$206,1,FALSE) -> #N/A | G436: =VLOOKUP($C436,기술자현황!$B$4:$I$206,4,FALSE) -> #N/A | H436: =VLOOKUP($C436,기술자현황!$B$4:$I$206,8,FALSE) -> #N/A | I436: =VLOOKUP($C436,기술자현황!$B$4:$I$206,2,FALSE) -> #N/A | J436: =VLOOKUP($C436,기술자현황!$B$4:$I$206,7,FALSE) -> #N/A | K436: =VLOOKUP($C436,기술자현황!$B$4:$I$206,3,FALSE) -> #N/A | L436: =VLOOKUP($C436,기술자현황!$B$4:$I$206,5,FALSE) -> #N/A | M436: =VLOOKUP($H436,사업현황!$A$4:$K$140,8,FALSE) -> #N/A
F437: =VLOOKUP($C437,기술자현황!$B$4:$I$206,1,FALSE) -> #N/A | G437: =VLOOKUP($C437,기술자현황!$B$4:$I$206,4,FALSE) -> #N/A | H437: =VLOOKUP($C437,기술자현황!$B$4:$I$206,8,FALSE) -> #N/A | I437: =VLOOKUP($C437,기술자현황!$B$4:$I$206,2,FALSE) -> #N/A | J437: =VLOOKUP($C437,기술자현황!$B$4:$I$206,7,FALSE) -> #N/A | K437: =VLOOKUP($C437,기술자현황!$B$4:$I$206,3,FALSE) -> #N/A | L437: =VLOOKUP($C437,기술자현황!$B$4:$I$206,5,FALSE) -> #N/A | M437: =VLOOKUP($H437,사업현황!$A$4:$K$140,8,FALSE) -> #N/A
F438: =VLOOKUP($C438,기술자현황!$B$4:$I$206,1,FALSE) -> #N/A | G438: =VLOOKUP($C438,기술자현황!$B$4:$I$206,4,FALSE) -> #N/A | H438: =VLOOKUP($C438,기술자현황!$B$4:$I$206,8,FALSE) -> #N/A | I438: =VLOOKUP($C438,기술자현황!$B$4:$I$206,2,FALSE) -> #N/A | J438: =VLOOKUP($C438,기술자현황!$B$4:$I$206,7,FALSE) -> #N/A | K438: =VLOOKUP($C438,기술자현황!$B$4:$I$206,3,FALSE) -> #N/A | L438: =VLOOKUP($C438,기술자현황!$B$4:$I$206,5,FALSE) -> #N/A | M438: =VLOOKUP($H438,사업현황!$A$4:$K$140,8,FALSE) -> #N/A
... F467: =VLOOKUP($C467,기술자현황!$B$4:$I$206,1,FALSE) -> #N/A | G467: =VLOOKUP($C467,기술자현황!$B$4:$I$206,4,FALSE) -> #N/A | H467: =VLOOKUP($C467,기술자현황!$B$4:$I$206,8,FALSE) -> #N/A | I467: =VLOOKUP($C467,기술자현황!$B$4:$I$206,2,FALSE) -> #N/A | J467: =VLOOKUP($C467,기술자현황!$B$4:$I$206,7,FALSE) -> #N/A | K467: =VLOOKUP($C467,기술자현황!$B$4:$I$206,3,FALSE) -> #N/A | L467: =VLOOKUP($C467,기술자현황!$B$4:$I$206,5,FALSE) -> #N/A | M467: =VLOOKUP($H467,사업현황!$A$4:$K$140,8,FALSE) -> #N/A
F468: =VLOOKUP($C468,기술자현황!$B$4:$I$119,1,FALSE) -> #N/A | G468: =VLOOKUP($C468,기술자현황!$B$4:$I$119,4,FALSE) -> #N/A

Sheet 입찰참가자격제한
A1: 용역업체 입찰참가제한 현황
A2: 용역회사 | D2: 용역명 | E2: 발주처 | F2: 입찰참가제한현황
A3: 업체명 | B3: 대표자 | C3: 주소 | F3: 처분종류 | G3: 제재기간
